BEGIN:VCALENDAR
VERSION:2.0
PRODID:-//achurchnearyou.com//eventfeed//EN
CALSCALE:GREGORIAN
METHOD:PUBLISH
X-WR-TIMEZONE:UTC
BEGIN:VEVENT
SUMMARY:New Horizons Bereavement Cafe
DTSTART;TZID=Europe/London:20260429T100000
DTEND;TZID=Europe/London:20260429T113000
DTSTAMP:20260422T112008Z
UID:12068972026-04-29 10:00:00+01:00achurchnearyou
CATEGORIES:
DESCRIPTION:New Horizons is a bereavement cafe open to anyone who has suff
 ered any kind of bereavement\, either recently\, months ago or years ago. 
 New Horizons will be a safe place to talk to others who understand what lo
 sing a loved one feels like. \n\nJoin us for tea\, coffee\, cake and conve
 rsation - grief is a journey that no one should have to go through alone.
GEO:-0.816173;51.817873
LOCATION:St Mary's Church\, Aylesbury
URL:https://www.achurchnearyou.com/church/18/service-and-events/events/120
 6897/
END:VEVENT
BEGIN:VEVENT
SUMMARY:New Horizons Bereavement Cafe
DTSTART;TZID=Europe/London:20260527T100000
DTEND;TZID=Europe/London:20260527T113000
DTSTAMP:20260422T112008Z
UID:12068972026-05-27 10:00:00+01:00achurchnearyou
CATEGORIES:
DESCRIPTION:New Horizons is a bereavement cafe open to anyone who has suff
 ered any kind of bereavement\, either recently\, months ago or years ago. 
 New Horizons will be a safe place to talk to others who understand what lo
 sing a loved one feels like. \n\nJoin us for tea\, coffee\, cake and conve
 rsation - grief is a journey that no one should have to go through alone.
GEO:-0.816173;51.817873
LOCATION:St Mary's Church\, Aylesbury
URL:https://www.achurchnearyou.com/church/18/service-and-events/events/120
 6897/
END:VEVENT
BEGIN:VEVENT
SUMMARY:New Horizons Bereavement Cafe
DTSTART;TZID=Europe/London:20260624T100000
DTEND;TZID=Europe/London:20260624T113000
DTSTAMP:20260422T112008Z
UID:12068972026-06-24 10:00:00+01:00achurchnearyou
CATEGORIES:
DESCRIPTION:New Horizons is a bereavement cafe open to anyone who has suff
 ered any kind of bereavement\, either recently\, months ago or years ago. 
 New Horizons will be a safe place to talk to others who understand what lo
 sing a loved one feels like. \n\nJoin us for tea\, coffee\, cake and conve
 rsation - grief is a journey that no one should have to go through alone.
GEO:-0.816173;51.817873
LOCATION:St Mary's Church\, Aylesbury
URL:https://www.achurchnearyou.com/church/18/service-and-events/events/120
 6897/
END:VEVENT
BEGIN:VEVENT
SUMMARY:New Horizons Bereavement Cafe
DTSTART;TZID=Europe/London:20260729T100000
DTEND;TZID=Europe/London:20260729T113000
DTSTAMP:20260422T112008Z
UID:12068972026-07-29 10:00:00+01:00achurchnearyou
CATEGORIES:
DESCRIPTION:New Horizons is a bereavement cafe open to anyone who has suff
 ered any kind of bereavement\, either recently\, months ago or years ago. 
 New Horizons will be a safe place to talk to others who understand what lo
 sing a loved one feels like. \n\nJoin us for tea\, coffee\, cake and conve
 rsation - grief is a journey that no one should have to go through alone.
GEO:-0.816173;51.817873
LOCATION:St Mary's Church\, Aylesbury
URL:https://www.achurchnearyou.com/church/18/service-and-events/events/120
 6897/
END:VEVENT
BEGIN:VEVENT
SUMMARY:New Horizons Bereavement Cafe
DTSTART;TZID=Europe/London:20260826T100000
DTEND;TZID=Europe/London:20260826T113000
DTSTAMP:20260422T112008Z
UID:12068972026-08-26 10:00:00+01:00achurchnearyou
CATEGORIES:
DESCRIPTION:New Horizons is a bereavement cafe open to anyone who has suff
 ered any kind of bereavement\, either recently\, months ago or years ago. 
 New Horizons will be a safe place to talk to others who understand what lo
 sing a loved one feels like. \n\nJoin us for tea\, coffee\, cake and conve
 rsation - grief is a journey that no one should have to go through alone.
GEO:-0.816173;51.817873
LOCATION:St Mary's Church\, Aylesbury
URL:https://www.achurchnearyou.com/church/18/service-and-events/events/120
 6897/
END:VEVENT
BEGIN:VEVENT
SUMMARY:New Horizons Bereavement Cafe
DTSTART;TZID=Europe/London:20260930T100000
DTEND;TZID=Europe/London:20260930T113000
DTSTAMP:20260422T112008Z
UID:12068972026-09-30 10:00:00+01:00achurchnearyou
CATEGORIES:
DESCRIPTION:New Horizons is a bereavement cafe open to anyone who has suff
 ered any kind of bereavement\, either recently\, months ago or years ago. 
 New Horizons will be a safe place to talk to others who understand what lo
 sing a loved one feels like. \n\nJoin us for tea\, coffee\, cake and conve
 rsation - grief is a journey that no one should have to go through alone.
GEO:-0.816173;51.817873
LOCATION:St Mary's Church\, Aylesbury
URL:https://www.achurchnearyou.com/church/18/service-and-events/events/120
 6897/
END:VEVENT
BEGIN:VEVENT
SUMMARY:New Horizons Bereavement Cafe
DTSTART;TZID=Europe/London:20261028T100000
DTEND;TZID=Europe/London:20261028T113000
DTSTAMP:20260422T112008Z
UID:12068972026-10-28 10:00:00+00:00achurchnearyou
CATEGORIES:
DESCRIPTION:New Horizons is a bereavement cafe open to anyone who has suff
 ered any kind of bereavement\, either recently\, months ago or years ago. 
 New Horizons will be a safe place to talk to others who understand what lo
 sing a loved one feels like. \n\nJoin us for tea\, coffee\, cake and conve
 rsation - grief is a journey that no one should have to go through alone.
GEO:-0.816173;51.817873
LOCATION:St Mary's Church\, Aylesbury
URL:https://www.achurchnearyou.com/church/18/service-and-events/events/120
 6897/
END:VEVENT
BEGIN:VEVENT
SUMMARY:New Horizons Bereavement Cafe
DTSTART;TZID=Europe/London:20261125T100000
DTEND;TZID=Europe/London:20261125T113000
DTSTAMP:20260422T112008Z
UID:12068972026-11-25 10:00:00+00:00achurchnearyou
CATEGORIES:
DESCRIPTION:New Horizons is a bereavement cafe open to anyone who has suff
 ered any kind of bereavement\, either recently\, months ago or years ago. 
 New Horizons will be a safe place to talk to others who understand what lo
 sing a loved one feels like. \n\nJoin us for tea\, coffee\, cake and conve
 rsation - grief is a journey that no one should have to go through alone.
GEO:-0.816173;51.817873
LOCATION:St Mary's Church\, Aylesbury
URL:https://www.achurchnearyou.com/church/18/service-and-events/events/120
 6897/
END:VEVENT
BEGIN:VEVENT
SUMMARY:New Horizons Bereavement Cafe
DTSTART;TZID=Europe/London:20261230T100000
DTEND;TZID=Europe/London:20261230T113000
DTSTAMP:20260422T112008Z
UID:12068972026-12-30 10:00:00+00:00achurchnearyou
CATEGORIES:
DESCRIPTION:New Horizons is a bereavement cafe open to anyone who has suff
 ered any kind of bereavement\, either recently\, months ago or years ago. 
 New Horizons will be a safe place to talk to others who understand what lo
 sing a loved one feels like. \n\nJoin us for tea\, coffee\, cake and conve
 rsation - grief is a journey that no one should have to go through alone.
GEO:-0.816173;51.817873
LOCATION:St Mary's Church\, Aylesbury
URL:https://www.achurchnearyou.com/church/18/service-and-events/events/120
 6897/
END:VEVENT
BEGIN:VEVENT
SUMMARY:New Horizons Bereavement Cafe
DTSTART;TZID=Europe/London:20270127T100000
DTEND;TZID=Europe/London:20270127T113000
DTSTAMP:20260422T112008Z
UID:12068972027-01-27 10:00:00+00:00achurchnearyou
CATEGORIES:
DESCRIPTION:New Horizons is a bereavement cafe open to anyone who has suff
 ered any kind of bereavement\, either recently\, months ago or years ago. 
 New Horizons will be a safe place to talk to others who understand what lo
 sing a loved one feels like. \n\nJoin us for tea\, coffee\, cake and conve
 rsation - grief is a journey that no one should have to go through alone.
GEO:-0.816173;51.817873
LOCATION:St Mary's Church\, Aylesbury
URL:https://www.achurchnearyou.com/church/18/service-and-events/events/120
 6897/
END:VEVENT
BEGIN:VEVENT
SUMMARY:New Horizons Bereavement Cafe
DTSTART;TZID=Europe/London:20270224T100000
DTEND;TZID=Europe/London:20270224T113000
DTSTAMP:20260422T112008Z
UID:12068972027-02-24 10:00:00+00:00achurchnearyou
CATEGORIES:
DESCRIPTION:New Horizons is a bereavement cafe open to anyone who has suff
 ered any kind of bereavement\, either recently\, months ago or years ago. 
 New Horizons will be a safe place to talk to others who understand what lo
 sing a loved one feels like. \n\nJoin us for tea\, coffee\, cake and conve
 rsation - grief is a journey that no one should have to go through alone.
GEO:-0.816173;51.817873
LOCATION:St Mary's Church\, Aylesbury
URL:https://www.achurchnearyou.com/church/18/service-and-events/events/120
 6897/
END:VEVENT
BEGIN:VEVENT
SUMMARY:New Horizons Bereavement Cafe
DTSTART;TZID=Europe/London:20270331T100000
DTEND;TZID=Europe/London:20270331T113000
DTSTAMP:20260422T112008Z
UID:12068972027-03-31 10:00:00+01:00achurchnearyou
CATEGORIES:
DESCRIPTION:New Horizons is a bereavement cafe open to anyone who has suff
 ered any kind of bereavement\, either recently\, months ago or years ago. 
 New Horizons will be a safe place to talk to others who understand what lo
 sing a loved one feels like. \n\nJoin us for tea\, coffee\, cake and conve
 rsation - grief is a journey that no one should have to go through alone.
GEO:-0.816173;51.817873
LOCATION:St Mary's Church\, Aylesbury
URL:https://www.achurchnearyou.com/church/18/service-and-events/events/120
 6897/
END:VEVENT
END:VCALENDAR
