BEGIN:VCALENDAR
VERSION:2.0
PRODID:-//achurchnearyou.com//eventfeed//EN
CALSCALE:GREGORIAN
METHOD:PUBLISH
X-WR-TIMEZONE:UTC
BEGIN:VEVENT
SUMMARY:Easter Eucharist for All
DTSTART:20250420T090000Z
DTEND:20250420T100000Z
DTSTAMP:20260424T151244Z
UID:11879322025-04-20 09:00:00+00:00achurchnearyou
CATEGORIES:
DESCRIPTION:Jesus is risen!! Come and celebrate together the wonderful new
 s of Jesus’ resurrection\nand an Easter Egg hunt for children after the 
 service
GEO:-1.938647;53.732762
LOCATION:St Mary's
URL:https://www.achurchnearyou.com/church/18016/service-and-events/events/
 1187932/
END:VEVENT
END:VCALENDAR
