BEGIN:VCALENDAR
VERSION:2.0
PRODID:-//achurchnearyou.com//eventfeed//EN
CALSCALE:GREGORIAN
METHOD:PUBLISH
X-WR-TIMEZONE:UTC
BEGIN:VEVENT
SUMMARY:Eucharist for Maundy Thursday
DTSTART:20260402T063000Z
DTEND:20260402T230000Z
DTSTAMP:20260423T083520Z
UID:13146262026-04-02 06:30:00+00:00achurchnearyou
CATEGORIES:
DESCRIPTION:We celebrate the Eucharist of the Last Supper with a Gethseman
 e Watch after stripping of the altars. The watch will continue until midni
 ght.
GEO:-1.938647;53.732762
LOCATION:St Mary's
URL:https://www.achurchnearyou.com/church/18016/service-and-events/events/
 1314626/
END:VEVENT
END:VCALENDAR
