BEGIN:VCALENDAR
VERSION:2.0
PRODID:-//achurchnearyou.com//eventfeed//EN
CALSCALE:GREGORIAN
METHOD:PUBLISH
X-WR-TIMEZONE:UTC
BEGIN:VEVENT
SUMMARY:Carol Service
DTSTART:20251221T150000Z
DTEND:20251221T160000Z
DTSTAMP:20260422T112052Z
UID:12612752025-12-21 15:00:00+00:00achurchnearyou
CATEGORIES:
DESCRIPTION:A service of Carols and Readings for Christmas. Suitable for a
 ll ages. All welcome.
GEO:-1.845737;53.626412
LOCATION:Christ Church
URL:https://www.achurchnearyou.com/church/18034/service-and-events/events/
 1261275/
END:VEVENT
END:VCALENDAR
