BEGIN:VCALENDAR
VERSION:2.0
PRODID:-//achurchnearyou.com//eventfeed//EN
CALSCALE:GREGORIAN
METHOD:PUBLISH
X-WR-TIMEZONE:UTC
BEGIN:VEVENT
SUMMARY:5th Sunday Joint Benefice Service
DTSTART;TZID=Europe/London:20241229T094500
DTEND;TZID=Europe/London:20241229T104500
DTSTAMP:20260422T022610Z
UID:5234582024-12-29 09:45:00+00:00achurchnearyou
CATEGORIES:
DESCRIPTION:On the 5th Sunday of the month\, alternating venues we join to
 gether with our sister church for a morning of worship. All ages are welco
 me!
GEO:-1.754098;53.654194
LOCATION:St James Church & Parish Centre
URL:https://www.achurchnearyou.com/church/18051/service-and-events/events/
 523458/
END:VEVENT
BEGIN:VEVENT
SUMMARY:5th Sunday Joint Benefice Service
DTSTART;TZID=Europe/London:20250629T094500
DTEND;TZID=Europe/London:20250629T104500
DTSTAMP:20260422T022610Z
UID:5234582025-06-29 09:45:00+01:00achurchnearyou
CATEGORIES:
DESCRIPTION:On the 5th Sunday of the month\, alternating venues we join to
 gether with our sister church for a morning of worship. All ages are welco
 me!
GEO:-1.754098;53.654194
LOCATION:St James Church & Parish Centre
URL:https://www.achurchnearyou.com/church/18051/service-and-events/events/
 523458/
END:VEVENT
BEGIN:VEVENT
SUMMARY:5th Sunday Joint Benefice Service
DTSTART;TZID=Europe/London:20251130T094500
DTEND;TZID=Europe/London:20251130T104500
DTSTAMP:20260422T022610Z
UID:5234582025-11-30 09:45:00+00:00achurchnearyou
CATEGORIES:
DESCRIPTION:On the 5th Sunday of the month\, alternating venues we join to
 gether with our sister church for a morning of worship. All ages are welco
 me!
GEO:-1.754098;53.654194
LOCATION:St James Church & Parish Centre
URL:https://www.achurchnearyou.com/church/18051/service-and-events/events/
 523458/
END:VEVENT
END:VCALENDAR
