BEGIN:VCALENDAR
VERSION:2.0
PRODID:-//achurchnearyou.com//eventfeed//EN
CALSCALE:GREGORIAN
METHOD:PUBLISH
X-WR-TIMEZONE:UTC
BEGIN:VEVENT
SUMMARY:BINGO Fundraiser
DTSTART:20260215T143000Z
DTEND:20260215T163000Z
DTSTAMP:20260421T223100Z
UID:8407732026-02-15 14:30:00+00:00achurchnearyou
CATEGORIES:
DESCRIPTION:Do you enjoy a game of BINGO? \nCome along for an afternoon of
  good company\, fun and refreshments\n£5 per person\nin order to help wit
 h catering let us know you will be there on 01484 534479
GEO:-1.754098;53.654194
LOCATION:St James Church & Parish Centre
URL:https://www.achurchnearyou.com/church/18051/service-and-events/events/
 840773/
END:VEVENT
END:VCALENDAR
