BEGIN:VCALENDAR
VERSION:2.0
PRODID:-//achurchnearyou.com//eventfeed//EN
CALSCALE:GREGORIAN
METHOD:PUBLISH
X-WR-TIMEZONE:UTC
BEGIN:VEVENT
SUMMARY:Prayer Invite
DTSTART;TZID=Europe/London:20250317T113000
DTEND;TZID=Europe/London:20250317T120000
DTSTAMP:20260419T145354Z
UID:11743112025-03-17 11:30:00+00:00achurchnearyou
CATEGORIES:
DESCRIPTION:Prayer Invite - Join us in prayer for peace in the world and o
 ur lives\nEvery Monday\, Wednesday and Friday 11.30am - Midday\nPlease sen
 d pray requests to drighpraytogether@gmail.com
GEO:-1.660553;53.758399
LOCATION:St Paul's Church
URL:https://www.achurchnearyou.com/church/18108/service-and-events/events/
 1174311/
END:VEVENT
BEGIN:VEVENT
SUMMARY:Prayer Invite
DTSTART;TZID=Europe/London:20250319T113000
DTEND;TZID=Europe/London:20250319T120000
DTSTAMP:20260419T145354Z
UID:11743112025-03-19 11:30:00+00:00achurchnearyou
CATEGORIES:
DESCRIPTION:Prayer Invite - Join us in prayer for peace in the world and o
 ur lives\nEvery Monday\, Wednesday and Friday 11.30am - Midday\nPlease sen
 d pray requests to drighpraytogether@gmail.com
GEO:-1.660553;53.758399
LOCATION:St Paul's Church
URL:https://www.achurchnearyou.com/church/18108/service-and-events/events/
 1174311/
END:VEVENT
BEGIN:VEVENT
SUMMARY:Prayer Invite
DTSTART;TZID=Europe/London:20250321T113000
DTEND;TZID=Europe/London:20250321T120000
DTSTAMP:20260419T145354Z
UID:11743112025-03-21 11:30:00+00:00achurchnearyou
CATEGORIES:
DESCRIPTION:Prayer Invite - Join us in prayer for peace in the world and o
 ur lives\nEvery Monday\, Wednesday and Friday 11.30am - Midday\nPlease sen
 d pray requests to drighpraytogether@gmail.com
GEO:-1.660553;53.758399
LOCATION:St Paul's Church
URL:https://www.achurchnearyou.com/church/18108/service-and-events/events/
 1174311/
END:VEVENT
BEGIN:VEVENT
SUMMARY:Prayer Invite
DTSTART;TZID=Europe/London:20250324T113000
DTEND;TZID=Europe/London:20250324T120000
DTSTAMP:20260419T145354Z
UID:11743112025-03-24 11:30:00+00:00achurchnearyou
CATEGORIES:
DESCRIPTION:Prayer Invite - Join us in prayer for peace in the world and o
 ur lives\nEvery Monday\, Wednesday and Friday 11.30am - Midday\nPlease sen
 d pray requests to drighpraytogether@gmail.com
GEO:-1.660553;53.758399
LOCATION:St Paul's Church
URL:https://www.achurchnearyou.com/church/18108/service-and-events/events/
 1174311/
END:VEVENT
BEGIN:VEVENT
SUMMARY:Prayer Invite
DTSTART;TZID=Europe/London:20250326T113000
DTEND;TZID=Europe/London:20250326T120000
DTSTAMP:20260419T145354Z
UID:11743112025-03-26 11:30:00+00:00achurchnearyou
CATEGORIES:
DESCRIPTION:Prayer Invite - Join us in prayer for peace in the world and o
 ur lives\nEvery Monday\, Wednesday and Friday 11.30am - Midday\nPlease sen
 d pray requests to drighpraytogether@gmail.com
GEO:-1.660553;53.758399
LOCATION:St Paul's Church
URL:https://www.achurchnearyou.com/church/18108/service-and-events/events/
 1174311/
END:VEVENT
BEGIN:VEVENT
SUMMARY:Prayer Invite
DTSTART;TZID=Europe/London:20250328T113000
DTEND;TZID=Europe/London:20250328T120000
DTSTAMP:20260419T145354Z
UID:11743112025-03-28 11:30:00+00:00achurchnearyou
CATEGORIES:
DESCRIPTION:Prayer Invite - Join us in prayer for peace in the world and o
 ur lives\nEvery Monday\, Wednesday and Friday 11.30am - Midday\nPlease sen
 d pray requests to drighpraytogether@gmail.com
GEO:-1.660553;53.758399
LOCATION:St Paul's Church
URL:https://www.achurchnearyou.com/church/18108/service-and-events/events/
 1174311/
END:VEVENT
BEGIN:VEVENT
SUMMARY:Prayer Invite
DTSTART;TZID=Europe/London:20250331T113000
DTEND;TZID=Europe/London:20250331T120000
DTSTAMP:20260419T145354Z
UID:11743112025-03-31 11:30:00+01:00achurchnearyou
CATEGORIES:
DESCRIPTION:Prayer Invite - Join us in prayer for peace in the world and o
 ur lives\nEvery Monday\, Wednesday and Friday 11.30am - Midday\nPlease sen
 d pray requests to drighpraytogether@gmail.com
GEO:-1.660553;53.758399
LOCATION:St Paul's Church
URL:https://www.achurchnearyou.com/church/18108/service-and-events/events/
 1174311/
END:VEVENT
BEGIN:VEVENT
SUMMARY:Prayer Invite
DTSTART;TZID=Europe/London:20250402T113000
DTEND;TZID=Europe/London:20250402T120000
DTSTAMP:20260419T145354Z
UID:11743112025-04-02 11:30:00+01:00achurchnearyou
CATEGORIES:
DESCRIPTION:Prayer Invite - Join us in prayer for peace in the world and o
 ur lives\nEvery Monday\, Wednesday and Friday 11.30am - Midday\nPlease sen
 d pray requests to drighpraytogether@gmail.com
GEO:-1.660553;53.758399
LOCATION:St Paul's Church
URL:https://www.achurchnearyou.com/church/18108/service-and-events/events/
 1174311/
END:VEVENT
BEGIN:VEVENT
SUMMARY:Prayer Invite
DTSTART;TZID=Europe/London:20250404T113000
DTEND;TZID=Europe/London:20250404T120000
DTSTAMP:20260419T145354Z
UID:11743112025-04-04 11:30:00+01:00achurchnearyou
CATEGORIES:
DESCRIPTION:Prayer Invite - Join us in prayer for peace in the world and o
 ur lives\nEvery Monday\, Wednesday and Friday 11.30am - Midday\nPlease sen
 d pray requests to drighpraytogether@gmail.com
GEO:-1.660553;53.758399
LOCATION:St Paul's Church
URL:https://www.achurchnearyou.com/church/18108/service-and-events/events/
 1174311/
END:VEVENT
BEGIN:VEVENT
SUMMARY:Prayer Invite
DTSTART;TZID=Europe/London:20250407T113000
DTEND;TZID=Europe/London:20250407T120000
DTSTAMP:20260419T145354Z
UID:11743112025-04-07 11:30:00+01:00achurchnearyou
CATEGORIES:
DESCRIPTION:Prayer Invite - Join us in prayer for peace in the world and o
 ur lives\nEvery Monday\, Wednesday and Friday 11.30am - Midday\nPlease sen
 d pray requests to drighpraytogether@gmail.com
GEO:-1.660553;53.758399
LOCATION:St Paul's Church
URL:https://www.achurchnearyou.com/church/18108/service-and-events/events/
 1174311/
END:VEVENT
BEGIN:VEVENT
SUMMARY:Prayer Invite
DTSTART;TZID=Europe/London:20250409T113000
DTEND;TZID=Europe/London:20250409T120000
DTSTAMP:20260419T145354Z
UID:11743112025-04-09 11:30:00+01:00achurchnearyou
CATEGORIES:
DESCRIPTION:Prayer Invite - Join us in prayer for peace in the world and o
 ur lives\nEvery Monday\, Wednesday and Friday 11.30am - Midday\nPlease sen
 d pray requests to drighpraytogether@gmail.com
GEO:-1.660553;53.758399
LOCATION:St Paul's Church
URL:https://www.achurchnearyou.com/church/18108/service-and-events/events/
 1174311/
END:VEVENT
BEGIN:VEVENT
SUMMARY:Prayer Invite
DTSTART;TZID=Europe/London:20250411T113000
DTEND;TZID=Europe/London:20250411T120000
DTSTAMP:20260419T145354Z
UID:11743112025-04-11 11:30:00+01:00achurchnearyou
CATEGORIES:
DESCRIPTION:Prayer Invite - Join us in prayer for peace in the world and o
 ur lives\nEvery Monday\, Wednesday and Friday 11.30am - Midday\nPlease sen
 d pray requests to drighpraytogether@gmail.com
GEO:-1.660553;53.758399
LOCATION:St Paul's Church
URL:https://www.achurchnearyou.com/church/18108/service-and-events/events/
 1174311/
END:VEVENT
END:VCALENDAR
