BEGIN:VCALENDAR
VERSION:2.0
PRODID:-//achurchnearyou.com//eventfeed//EN
CALSCALE:GREGORIAN
METHOD:PUBLISH
X-WR-TIMEZONE:UTC
BEGIN:VEVENT
SUMMARY:April 15th - Tuesday in Holy Week
DTSTART:20250415T183000Z
DTEND:20250415T193000Z
DTSTAMP:20260419T145441Z
UID:11817712025-04-15 18:30:00+00:00achurchnearyou
CATEGORIES:
DESCRIPTION:7.30pm - Reflections on the Cross
GEO:-1.660553;53.758399
LOCATION:St Paul's Church
URL:https://www.achurchnearyou.com/church/18108/service-and-events/events/
 1181771/
END:VEVENT
END:VCALENDAR
