BEGIN:VCALENDAR
VERSION:2.0
PRODID:-//achurchnearyou.com//eventfeed//EN
CALSCALE:GREGORIAN
METHOD:PUBLISH
X-WR-TIMEZONE:UTC
BEGIN:VEVENT
SUMMARY:April 18th - Good Friday
DTSTART:20250418T130000Z
DTEND:20250418T140000Z
DTSTAMP:20260419T145438Z
UID:11817772025-04-18 13:00:00+00:00achurchnearyou
CATEGORIES:
DESCRIPTION:2pm At the foot of the Cross Service
GEO:-1.660553;53.758399
LOCATION:St Paul's Church
URL:https://www.achurchnearyou.com/church/18108/service-and-events/events/
 1181777/
END:VEVENT
END:VCALENDAR
