BEGIN:VCALENDAR
VERSION:2.0
PRODID:-//achurchnearyou.com//eventfeed//EN
CALSCALE:GREGORIAN
METHOD:PUBLISH
X-WR-TIMEZONE:UTC
BEGIN:VEVENT
SUMMARY:Light lunch
DTSTART;TZID=Europe/London:20260528T120000
DTEND;TZID=Europe/London:20260528T140000
DTSTAMP:20260422T171929Z
UID:13231192026-05-28 12:00:00+01:00achurchnearyou
CATEGORIES:
DESCRIPTION:Come and join us for a light lunch . Meet and share a meal wit
 h friends old and new. \nStarter\, main course \,sweet with tea or coffee 
 for £8  no booking needed. service starts at 12pm with last orders at 1.1
 5pm
GEO:-1.517849;53.637585
LOCATION:St James the Great
URL:https://www.achurchnearyou.com/church/18124/service-and-events/events/
 1323119/
END:VEVENT
BEGIN:VEVENT
SUMMARY:Light lunch
DTSTART;TZID=Europe/London:20260625T120000
DTEND;TZID=Europe/London:20260625T140000
DTSTAMP:20260422T171929Z
UID:13231192026-06-25 12:00:00+01:00achurchnearyou
CATEGORIES:
DESCRIPTION:Come and join us for a light lunch . Meet and share a meal wit
 h friends old and new. \nStarter\, main course \,sweet with tea or coffee 
 for £8  no booking needed. service starts at 12pm with last orders at 1.1
 5pm
GEO:-1.517849;53.637585
LOCATION:St James the Great
URL:https://www.achurchnearyou.com/church/18124/service-and-events/events/
 1323119/
END:VEVENT
BEGIN:VEVENT
SUMMARY:Light lunch
DTSTART;TZID=Europe/London:20260723T120000
DTEND;TZID=Europe/London:20260723T140000
DTSTAMP:20260422T171929Z
UID:13231192026-07-23 12:00:00+01:00achurchnearyou
CATEGORIES:
DESCRIPTION:Come and join us for a light lunch . Meet and share a meal wit
 h friends old and new. \nStarter\, main course \,sweet with tea or coffee 
 for £8  no booking needed. service starts at 12pm with last orders at 1.1
 5pm
GEO:-1.517849;53.637585
LOCATION:St James the Great
URL:https://www.achurchnearyou.com/church/18124/service-and-events/events/
 1323119/
END:VEVENT
BEGIN:VEVENT
SUMMARY:Light lunch
DTSTART;TZID=Europe/London:20260827T120000
DTEND;TZID=Europe/London:20260827T140000
DTSTAMP:20260422T171929Z
UID:13231192026-08-27 12:00:00+01:00achurchnearyou
CATEGORIES:
DESCRIPTION:Come and join us for a light lunch . Meet and share a meal wit
 h friends old and new. \nStarter\, main course \,sweet with tea or coffee 
 for £8  no booking needed. service starts at 12pm with last orders at 1.1
 5pm
GEO:-1.517849;53.637585
LOCATION:St James the Great
URL:https://www.achurchnearyou.com/church/18124/service-and-events/events/
 1323119/
END:VEVENT
BEGIN:VEVENT
SUMMARY:Light lunch
DTSTART;TZID=Europe/London:20260924T120000
DTEND;TZID=Europe/London:20260924T140000
DTSTAMP:20260422T171929Z
UID:13231192026-09-24 12:00:00+01:00achurchnearyou
CATEGORIES:
DESCRIPTION:Come and join us for a light lunch . Meet and share a meal wit
 h friends old and new. \nStarter\, main course \,sweet with tea or coffee 
 for £8  no booking needed. service starts at 12pm with last orders at 1.1
 5pm
GEO:-1.517849;53.637585
LOCATION:St James the Great
URL:https://www.achurchnearyou.com/church/18124/service-and-events/events/
 1323119/
END:VEVENT
BEGIN:VEVENT
SUMMARY:Light lunch
DTSTART;TZID=Europe/London:20261022T120000
DTEND;TZID=Europe/London:20261022T140000
DTSTAMP:20260422T171929Z
UID:13231192026-10-22 12:00:00+01:00achurchnearyou
CATEGORIES:
DESCRIPTION:Come and join us for a light lunch . Meet and share a meal wit
 h friends old and new. \nStarter\, main course \,sweet with tea or coffee 
 for £8  no booking needed. service starts at 12pm with last orders at 1.1
 5pm
GEO:-1.517849;53.637585
LOCATION:St James the Great
URL:https://www.achurchnearyou.com/church/18124/service-and-events/events/
 1323119/
END:VEVENT
END:VCALENDAR
