BEGIN:VCALENDAR
VERSION:2.0
PRODID:-//achurchnearyou.com//eventfeed//EN
CALSCALE:GREGORIAN
METHOD:PUBLISH
X-WR-TIMEZONE:UTC
BEGIN:VEVENT
SUMMARY:MASS & SERVICE TIMES FEB 9TH - FEB 22ND:
DTSTART:20260208T100000Z
DTEND:20260222T120000Z
DTSTAMP:20260423T174423Z
UID:12894092026-02-08 10:00:00+00:00achurchnearyou
CATEGORIES:
DESCRIPTION:Monday\, February 9\, 2026: Week 5\, Ordinary Time\, Feria\, G
 reen\, Mass at 12:00 PM at Christ Church.\n\nTuesday\, February 10\, 2026:
  Saint Scholastica\, Virgin\, White\, Mass at 7:00 PM at St. John the Evan
 gelist\, followed by coffee.\n\nWednesday\, February 11\, 2026: Our Lady o
 f Lourdes\, Blue\, Mass at 12:00 PM at Christ Church\, followed by coffee.
 \n\nThursday\, February 12\, 2026: Week 5\, Ordinary Time\, Feria\, Green\
 , Mass at 12:00 PM at St. John the Evangelist.\n\nFriday\, February 13\, 2
 026: Week 5\, Ordinary Time\, Feria\, Green\, No Mass.\n\nSaturday\, Febru
 ary 14\, 2026: Saints Cyril\, Monk\, and Methodius\, Bishop - Feast\, Whit
 e:\nSt. John's Coffee Morning from 10:00 AM to 12:00 PM.\nMass at 12:00 PM
  at St. John the Evangelist.\n\nSunday\, February 15\, 2026: 6th Sunday in
  Ordinary Time\, Green\, Solemn Mass at 10:00 AM at Christ Church. (PCC Me
 eting to follow Mass).\n\nMonday\, February 16\, 2026: Week 6\, Ordinary T
 ime\, Feria\, Green\, Mass at 12:00 PM at Christ Church.\n\nTuesday\, Febr
 uary 17\, 2026: The Seven Holy Founders of the Servite Order\, White:\nHol
 y Hour with Exposition of the Blessed Sacrament from 12:00 PM to 1:00 PM a
 t Christ Church (The Sacrament of Confession will be available during this
  time).\nMass at 7:00 PM at St. John the Evangelist Carlinghow.\n\nWednesd
 ay\, February 18\, 2026: Ash Wednesday\, Purple (HOLY DAY OF OBLIGATION) -
  Solemn Mass and Imposition of Ashes at 6:00 PM at Christ Church Stancliff
 e.\n\nThursday\, February 19\, 2026: Thursday after Ash Wednesday\, Purple
 \, Mass at 12:00 PM at St. John the Evangelist Carlinghow.\n\nFriday\, Feb
 ruary 20\, 2026: Friday after Ash Wednesday\, Purple\, No Mass.\n\nSaturda
 y\, February 21\, 2026: Saturday after Ash Wednesday\, Purple\, Mass at 12
 :00 PM at Christ Church Stancliffe.\n\nSunday\, February 22\, 2026: 1st Su
 nday of Lent\, Purple\, Solemn Mass at 10:00 AM at St. John the Evangelist
  Carlinghow.
GEO:-1.647305;53.720735
LOCATION:St John the Evangelist\, Carlinghow
URL:https://www.achurchnearyou.com/church/18140/service-and-events/events/
 1289409/
END:VEVENT
END:VCALENDAR
