BEGIN:VCALENDAR
VERSION:2.0
PRODID:-//achurchnearyou.com//eventfeed//EN
CALSCALE:GREGORIAN
METHOD:PUBLISH
X-WR-TIMEZONE:UTC
BEGIN:VEVENT
SUMMARY:Mass - Outwood
DTSTART:20250414T180000Z
DTEND:20250414T184500Z
DTSTAMP:20260421T225157Z
UID:11843422025-04-14 18:00:00+00:00achurchnearyou
CATEGORIES:
DESCRIPTION:For Holy Week
GEO:-1.501368;53.711067
LOCATION:St Mary Magdalene Outwood
URL:https://www.achurchnearyou.com/church/18190/service-and-events/events/
 1184342/
END:VEVENT
END:VCALENDAR
