BEGIN:VCALENDAR
VERSION:2.0
PRODID:-//achurchnearyou.com//eventfeed//EN
CALSCALE:GREGORIAN
METHOD:PUBLISH
X-WR-TIMEZONE:UTC
BEGIN:VEVENT
SUMMARY:Stewardship series
DTSTART;TZID=Europe/London:20250824T090000
DTEND;TZID=Europe/London:20250824T100000
DTSTAMP:20260421T135952Z
UID:12096382025-08-24 09:00:00+01:00achurchnearyou
CATEGORIES:
DESCRIPTION:All our Churches are taking part in this 5  week Stewardship s
 eries\nof readings and sermons in morning services from 21 August to \n(PL
 EASE SEE THE RELEVANT CHURCH SERVICE FOR CORRECT TIME)
GEO:-1.501368;53.711067
LOCATION:St Paul's Alverthorpe\nSt Mary Magdalene Outwood\nSt Anne's Churc
 h\, Wrenthorpe\nSt Peters Church and Centre\, Stanley
URL:https://www.achurchnearyou.com/church/18190/service-and-events/events/
 1209638/
END:VEVENT
BEGIN:VEVENT
SUMMARY:Stewardship series
DTSTART;TZID=Europe/London:20250831T090000
DTEND;TZID=Europe/London:20250831T100000
DTSTAMP:20260421T135952Z
UID:12096382025-08-31 09:00:00+01:00achurchnearyou
CATEGORIES:
DESCRIPTION:All our Churches are taking part in this 5  week Stewardship s
 eries\nof readings and sermons in morning services from 21 August to \n(PL
 EASE SEE THE RELEVANT CHURCH SERVICE FOR CORRECT TIME)
GEO:-1.501368;53.711067
LOCATION:St Paul's Alverthorpe\nSt Mary Magdalene Outwood\nSt Anne's Churc
 h\, Wrenthorpe\nSt Peters Church and Centre\, Stanley
URL:https://www.achurchnearyou.com/church/18190/service-and-events/events/
 1209638/
END:VEVENT
BEGIN:VEVENT
SUMMARY:Stewardship series
DTSTART;TZID=Europe/London:20250907T090000
DTEND;TZID=Europe/London:20250907T100000
DTSTAMP:20260421T135952Z
UID:12096382025-09-07 09:00:00+01:00achurchnearyou
CATEGORIES:
DESCRIPTION:All our Churches are taking part in this 5  week Stewardship s
 eries\nof readings and sermons in morning services from 21 August to \n(PL
 EASE SEE THE RELEVANT CHURCH SERVICE FOR CORRECT TIME)
GEO:-1.501368;53.711067
LOCATION:St Paul's Alverthorpe\nSt Mary Magdalene Outwood\nSt Anne's Churc
 h\, Wrenthorpe\nSt Peters Church and Centre\, Stanley
URL:https://www.achurchnearyou.com/church/18190/service-and-events/events/
 1209638/
END:VEVENT
BEGIN:VEVENT
SUMMARY:Stewardship series
DTSTART;TZID=Europe/London:20250914T090000
DTEND;TZID=Europe/London:20250914T100000
DTSTAMP:20260421T135952Z
UID:12096382025-09-14 09:00:00+01:00achurchnearyou
CATEGORIES:
DESCRIPTION:All our Churches are taking part in this 5  week Stewardship s
 eries\nof readings and sermons in morning services from 21 August to \n(PL
 EASE SEE THE RELEVANT CHURCH SERVICE FOR CORRECT TIME)
GEO:-1.501368;53.711067
LOCATION:St Paul's Alverthorpe\nSt Mary Magdalene Outwood\nSt Anne's Churc
 h\, Wrenthorpe\nSt Peters Church and Centre\, Stanley
URL:https://www.achurchnearyou.com/church/18190/service-and-events/events/
 1209638/
END:VEVENT
BEGIN:VEVENT
SUMMARY:Stewardship series
DTSTART;TZID=Europe/London:20250921T090000
DTEND;TZID=Europe/London:20250921T100000
DTSTAMP:20260421T135952Z
UID:12096382025-09-21 09:00:00+01:00achurchnearyou
CATEGORIES:
DESCRIPTION:All our Churches are taking part in this 5  week Stewardship s
 eries\nof readings and sermons in morning services from 21 August to \n(PL
 EASE SEE THE RELEVANT CHURCH SERVICE FOR CORRECT TIME)
GEO:-1.501368;53.711067
LOCATION:St Paul's Alverthorpe\nSt Mary Magdalene Outwood\nSt Anne's Churc
 h\, Wrenthorpe\nSt Peters Church and Centre\, Stanley
URL:https://www.achurchnearyou.com/church/18190/service-and-events/events/
 1209638/
END:VEVENT
END:VCALENDAR
