BEGIN:VCALENDAR
VERSION:2.0
PRODID:-//achurchnearyou.com//eventfeed//EN
CALSCALE:GREGORIAN
METHOD:PUBLISH
X-WR-TIMEZONE:UTC
BEGIN:VEVENT
SUMMARY:Easter Egg Hunt & Coffee Morning
DTSTART:20250419T090000Z
DTEND:20250419T104500Z
DTSTAMP:20260424T075748Z
UID:11833632025-04-19 09:00:00+00:00achurchnearyou
CATEGORIES:
DESCRIPTION:Activities for children\, Coffee and Cake Sale for adults
GEO:-1.502081;53.672962
LOCATION:St James'\, Thornes
URL:https://www.achurchnearyou.com/church/18191/service-and-events/events/
 1183363/
END:VEVENT
END:VCALENDAR
