BEGIN:VCALENDAR
VERSION:2.0
PRODID:-//achurchnearyou.com//eventfeed//EN
CALSCALE:GREGORIAN
METHOD:PUBLISH
X-WR-TIMEZONE:UTC
BEGIN:VEVENT
SUMMARY:Sunday Worship
DTSTART;TZID=Europe/London:20260503T110000
DTEND;TZID=Europe/London:20260503T120000
DTSTAMP:20260421T082901Z
UID:10751972026-05-03 11:00:00+01:00achurchnearyou
CATEGORIES:
DESCRIPTION:Our usual pattern of services is Holy Communion (BCP) on the 1
 st Sunday\, Matins (BCP) on the 2nd Sunday\, Family Communion on the 3rd S
 unday and Evensong at 6pm on the 4th Sunday. Please check our current cale
 ndar on https://ropleybenefice.church/ for up-to-date information.
LOCATION:St Nicholas
URL:https://www.achurchnearyou.com/church/18202/service-and-events/events/
 1075197/
END:VEVENT
BEGIN:VEVENT
SUMMARY:Sunday Worship
DTSTART;TZID=Europe/London:20260510T110000
DTEND;TZID=Europe/London:20260510T120000
DTSTAMP:20260421T082901Z
UID:10751972026-05-10 11:00:00+01:00achurchnearyou
CATEGORIES:
DESCRIPTION:Our usual pattern of services is Holy Communion (BCP) on the 1
 st Sunday\, Matins (BCP) on the 2nd Sunday\, Family Communion on the 3rd S
 unday and Evensong at 6pm on the 4th Sunday. Please check our current cale
 ndar on https://ropleybenefice.church/ for up-to-date information.
LOCATION:St Nicholas
URL:https://www.achurchnearyou.com/church/18202/service-and-events/events/
 1075197/
END:VEVENT
BEGIN:VEVENT
SUMMARY:Sunday Worship
DTSTART;TZID=Europe/London:20260517T110000
DTEND;TZID=Europe/London:20260517T120000
DTSTAMP:20260421T082901Z
UID:10751972026-05-17 11:00:00+01:00achurchnearyou
CATEGORIES:
DESCRIPTION:Our usual pattern of services is Holy Communion (BCP) on the 1
 st Sunday\, Matins (BCP) on the 2nd Sunday\, Family Communion on the 3rd S
 unday and Evensong at 6pm on the 4th Sunday. Please check our current cale
 ndar on https://ropleybenefice.church/ for up-to-date information.
LOCATION:St Nicholas
URL:https://www.achurchnearyou.com/church/18202/service-and-events/events/
 1075197/
END:VEVENT
BEGIN:VEVENT
SUMMARY:Sunday Worship
DTSTART;TZID=Europe/London:20260607T110000
DTEND;TZID=Europe/London:20260607T120000
DTSTAMP:20260421T082901Z
UID:10751972026-06-07 11:00:00+01:00achurchnearyou
CATEGORIES:
DESCRIPTION:Our usual pattern of services is Holy Communion (BCP) on the 1
 st Sunday\, Matins (BCP) on the 2nd Sunday\, Family Communion on the 3rd S
 unday and Evensong at 6pm on the 4th Sunday. Please check our current cale
 ndar on https://ropleybenefice.church/ for up-to-date information.
LOCATION:St Nicholas
URL:https://www.achurchnearyou.com/church/18202/service-and-events/events/
 1075197/
END:VEVENT
BEGIN:VEVENT
SUMMARY:Sunday Worship
DTSTART;TZID=Europe/London:20260614T110000
DTEND;TZID=Europe/London:20260614T120000
DTSTAMP:20260421T082901Z
UID:10751972026-06-14 11:00:00+01:00achurchnearyou
CATEGORIES:
DESCRIPTION:Our usual pattern of services is Holy Communion (BCP) on the 1
 st Sunday\, Matins (BCP) on the 2nd Sunday\, Family Communion on the 3rd S
 unday and Evensong at 6pm on the 4th Sunday. Please check our current cale
 ndar on https://ropleybenefice.church/ for up-to-date information.
LOCATION:St Nicholas
URL:https://www.achurchnearyou.com/church/18202/service-and-events/events/
 1075197/
END:VEVENT
BEGIN:VEVENT
SUMMARY:Sunday Worship
DTSTART;TZID=Europe/London:20260621T110000
DTEND;TZID=Europe/London:20260621T120000
DTSTAMP:20260421T082901Z
UID:10751972026-06-21 11:00:00+01:00achurchnearyou
CATEGORIES:
DESCRIPTION:Our usual pattern of services is Holy Communion (BCP) on the 1
 st Sunday\, Matins (BCP) on the 2nd Sunday\, Family Communion on the 3rd S
 unday and Evensong at 6pm on the 4th Sunday. Please check our current cale
 ndar on https://ropleybenefice.church/ for up-to-date information.
LOCATION:St Nicholas
URL:https://www.achurchnearyou.com/church/18202/service-and-events/events/
 1075197/
END:VEVENT
BEGIN:VEVENT
SUMMARY:Sunday Worship
DTSTART;TZID=Europe/London:20260705T110000
DTEND;TZID=Europe/London:20260705T120000
DTSTAMP:20260421T082901Z
UID:10751972026-07-05 11:00:00+01:00achurchnearyou
CATEGORIES:
DESCRIPTION:Our usual pattern of services is Holy Communion (BCP) on the 1
 st Sunday\, Matins (BCP) on the 2nd Sunday\, Family Communion on the 3rd S
 unday and Evensong at 6pm on the 4th Sunday. Please check our current cale
 ndar on https://ropleybenefice.church/ for up-to-date information.
LOCATION:St Nicholas
URL:https://www.achurchnearyou.com/church/18202/service-and-events/events/
 1075197/
END:VEVENT
BEGIN:VEVENT
SUMMARY:Sunday Worship
DTSTART;TZID=Europe/London:20260712T110000
DTEND;TZID=Europe/London:20260712T120000
DTSTAMP:20260421T082901Z
UID:10751972026-07-12 11:00:00+01:00achurchnearyou
CATEGORIES:
DESCRIPTION:Our usual pattern of services is Holy Communion (BCP) on the 1
 st Sunday\, Matins (BCP) on the 2nd Sunday\, Family Communion on the 3rd S
 unday and Evensong at 6pm on the 4th Sunday. Please check our current cale
 ndar on https://ropleybenefice.church/ for up-to-date information.
LOCATION:St Nicholas
URL:https://www.achurchnearyou.com/church/18202/service-and-events/events/
 1075197/
END:VEVENT
BEGIN:VEVENT
SUMMARY:Sunday Worship
DTSTART;TZID=Europe/London:20260719T110000
DTEND;TZID=Europe/London:20260719T120000
DTSTAMP:20260421T082901Z
UID:10751972026-07-19 11:00:00+01:00achurchnearyou
CATEGORIES:
DESCRIPTION:Our usual pattern of services is Holy Communion (BCP) on the 1
 st Sunday\, Matins (BCP) on the 2nd Sunday\, Family Communion on the 3rd S
 unday and Evensong at 6pm on the 4th Sunday. Please check our current cale
 ndar on https://ropleybenefice.church/ for up-to-date information.
LOCATION:St Nicholas
URL:https://www.achurchnearyou.com/church/18202/service-and-events/events/
 1075197/
END:VEVENT
BEGIN:VEVENT
SUMMARY:Sunday Worship
DTSTART;TZID=Europe/London:20260802T110000
DTEND;TZID=Europe/London:20260802T120000
DTSTAMP:20260421T082901Z
UID:10751972026-08-02 11:00:00+01:00achurchnearyou
CATEGORIES:
DESCRIPTION:Our usual pattern of services is Holy Communion (BCP) on the 1
 st Sunday\, Matins (BCP) on the 2nd Sunday\, Family Communion on the 3rd S
 unday and Evensong at 6pm on the 4th Sunday. Please check our current cale
 ndar on https://ropleybenefice.church/ for up-to-date information.
LOCATION:St Nicholas
URL:https://www.achurchnearyou.com/church/18202/service-and-events/events/
 1075197/
END:VEVENT
BEGIN:VEVENT
SUMMARY:Sunday Worship
DTSTART;TZID=Europe/London:20260809T110000
DTEND;TZID=Europe/London:20260809T120000
DTSTAMP:20260421T082901Z
UID:10751972026-08-09 11:00:00+01:00achurchnearyou
CATEGORIES:
DESCRIPTION:Our usual pattern of services is Holy Communion (BCP) on the 1
 st Sunday\, Matins (BCP) on the 2nd Sunday\, Family Communion on the 3rd S
 unday and Evensong at 6pm on the 4th Sunday. Please check our current cale
 ndar on https://ropleybenefice.church/ for up-to-date information.
LOCATION:St Nicholas
URL:https://www.achurchnearyou.com/church/18202/service-and-events/events/
 1075197/
END:VEVENT
BEGIN:VEVENT
SUMMARY:Sunday Worship
DTSTART;TZID=Europe/London:20260816T110000
DTEND;TZID=Europe/London:20260816T120000
DTSTAMP:20260421T082901Z
UID:10751972026-08-16 11:00:00+01:00achurchnearyou
CATEGORIES:
DESCRIPTION:Our usual pattern of services is Holy Communion (BCP) on the 1
 st Sunday\, Matins (BCP) on the 2nd Sunday\, Family Communion on the 3rd S
 unday and Evensong at 6pm on the 4th Sunday. Please check our current cale
 ndar on https://ropleybenefice.church/ for up-to-date information.
LOCATION:St Nicholas
URL:https://www.achurchnearyou.com/church/18202/service-and-events/events/
 1075197/
END:VEVENT
BEGIN:VEVENT
SUMMARY:Sunday Worship
DTSTART;TZID=Europe/London:20260906T110000
DTEND;TZID=Europe/London:20260906T120000
DTSTAMP:20260421T082901Z
UID:10751972026-09-06 11:00:00+01:00achurchnearyou
CATEGORIES:
DESCRIPTION:Our usual pattern of services is Holy Communion (BCP) on the 1
 st Sunday\, Matins (BCP) on the 2nd Sunday\, Family Communion on the 3rd S
 unday and Evensong at 6pm on the 4th Sunday. Please check our current cale
 ndar on https://ropleybenefice.church/ for up-to-date information.
LOCATION:St Nicholas
URL:https://www.achurchnearyou.com/church/18202/service-and-events/events/
 1075197/
END:VEVENT
BEGIN:VEVENT
SUMMARY:Sunday Worship
DTSTART;TZID=Europe/London:20260913T110000
DTEND;TZID=Europe/London:20260913T120000
DTSTAMP:20260421T082901Z
UID:10751972026-09-13 11:00:00+01:00achurchnearyou
CATEGORIES:
DESCRIPTION:Our usual pattern of services is Holy Communion (BCP) on the 1
 st Sunday\, Matins (BCP) on the 2nd Sunday\, Family Communion on the 3rd S
 unday and Evensong at 6pm on the 4th Sunday. Please check our current cale
 ndar on https://ropleybenefice.church/ for up-to-date information.
LOCATION:St Nicholas
URL:https://www.achurchnearyou.com/church/18202/service-and-events/events/
 1075197/
END:VEVENT
BEGIN:VEVENT
SUMMARY:Sunday Worship
DTSTART;TZID=Europe/London:20260920T110000
DTEND;TZID=Europe/London:20260920T120000
DTSTAMP:20260421T082901Z
UID:10751972026-09-20 11:00:00+01:00achurchnearyou
CATEGORIES:
DESCRIPTION:Our usual pattern of services is Holy Communion (BCP) on the 1
 st Sunday\, Matins (BCP) on the 2nd Sunday\, Family Communion on the 3rd S
 unday and Evensong at 6pm on the 4th Sunday. Please check our current cale
 ndar on https://ropleybenefice.church/ for up-to-date information.
LOCATION:St Nicholas
URL:https://www.achurchnearyou.com/church/18202/service-and-events/events/
 1075197/
END:VEVENT
BEGIN:VEVENT
SUMMARY:Sunday Worship
DTSTART;TZID=Europe/London:20261004T110000
DTEND;TZID=Europe/London:20261004T120000
DTSTAMP:20260421T082901Z
UID:10751972026-10-04 11:00:00+01:00achurchnearyou
CATEGORIES:
DESCRIPTION:Our usual pattern of services is Holy Communion (BCP) on the 1
 st Sunday\, Matins (BCP) on the 2nd Sunday\, Family Communion on the 3rd S
 unday and Evensong at 6pm on the 4th Sunday. Please check our current cale
 ndar on https://ropleybenefice.church/ for up-to-date information.
LOCATION:St Nicholas
URL:https://www.achurchnearyou.com/church/18202/service-and-events/events/
 1075197/
END:VEVENT
BEGIN:VEVENT
SUMMARY:Sunday Worship
DTSTART;TZID=Europe/London:20261011T110000
DTEND;TZID=Europe/London:20261011T120000
DTSTAMP:20260421T082901Z
UID:10751972026-10-11 11:00:00+01:00achurchnearyou
CATEGORIES:
DESCRIPTION:Our usual pattern of services is Holy Communion (BCP) on the 1
 st Sunday\, Matins (BCP) on the 2nd Sunday\, Family Communion on the 3rd S
 unday and Evensong at 6pm on the 4th Sunday. Please check our current cale
 ndar on https://ropleybenefice.church/ for up-to-date information.
LOCATION:St Nicholas
URL:https://www.achurchnearyou.com/church/18202/service-and-events/events/
 1075197/
END:VEVENT
BEGIN:VEVENT
SUMMARY:Sunday Worship
DTSTART;TZID=Europe/London:20261018T110000
DTEND;TZID=Europe/London:20261018T120000
DTSTAMP:20260421T082901Z
UID:10751972026-10-18 11:00:00+01:00achurchnearyou
CATEGORIES:
DESCRIPTION:Our usual pattern of services is Holy Communion (BCP) on the 1
 st Sunday\, Matins (BCP) on the 2nd Sunday\, Family Communion on the 3rd S
 unday and Evensong at 6pm on the 4th Sunday. Please check our current cale
 ndar on https://ropleybenefice.church/ for up-to-date information.
LOCATION:St Nicholas
URL:https://www.achurchnearyou.com/church/18202/service-and-events/events/
 1075197/
END:VEVENT
BEGIN:VEVENT
SUMMARY:Sunday Worship
DTSTART;TZID=Europe/London:20261101T110000
DTEND;TZID=Europe/London:20261101T120000
DTSTAMP:20260421T082901Z
UID:10751972026-11-01 11:00:00+00:00achurchnearyou
CATEGORIES:
DESCRIPTION:Our usual pattern of services is Holy Communion (BCP) on the 1
 st Sunday\, Matins (BCP) on the 2nd Sunday\, Family Communion on the 3rd S
 unday and Evensong at 6pm on the 4th Sunday. Please check our current cale
 ndar on https://ropleybenefice.church/ for up-to-date information.
LOCATION:St Nicholas
URL:https://www.achurchnearyou.com/church/18202/service-and-events/events/
 1075197/
END:VEVENT
BEGIN:VEVENT
SUMMARY:Sunday Worship
DTSTART;TZID=Europe/London:20261108T110000
DTEND;TZID=Europe/London:20261108T120000
DTSTAMP:20260421T082901Z
UID:10751972026-11-08 11:00:00+00:00achurchnearyou
CATEGORIES:
DESCRIPTION:Our usual pattern of services is Holy Communion (BCP) on the 1
 st Sunday\, Matins (BCP) on the 2nd Sunday\, Family Communion on the 3rd S
 unday and Evensong at 6pm on the 4th Sunday. Please check our current cale
 ndar on https://ropleybenefice.church/ for up-to-date information.
LOCATION:St Nicholas
URL:https://www.achurchnearyou.com/church/18202/service-and-events/events/
 1075197/
END:VEVENT
BEGIN:VEVENT
SUMMARY:Sunday Worship
DTSTART;TZID=Europe/London:20261115T110000
DTEND;TZID=Europe/London:20261115T120000
DTSTAMP:20260421T082901Z
UID:10751972026-11-15 11:00:00+00:00achurchnearyou
CATEGORIES:
DESCRIPTION:Our usual pattern of services is Holy Communion (BCP) on the 1
 st Sunday\, Matins (BCP) on the 2nd Sunday\, Family Communion on the 3rd S
 unday and Evensong at 6pm on the 4th Sunday. Please check our current cale
 ndar on https://ropleybenefice.church/ for up-to-date information.
LOCATION:St Nicholas
URL:https://www.achurchnearyou.com/church/18202/service-and-events/events/
 1075197/
END:VEVENT
BEGIN:VEVENT
SUMMARY:Sunday Worship
DTSTART;TZID=Europe/London:20261206T110000
DTEND;TZID=Europe/London:20261206T120000
DTSTAMP:20260421T082901Z
UID:10751972026-12-06 11:00:00+00:00achurchnearyou
CATEGORIES:
DESCRIPTION:Our usual pattern of services is Holy Communion (BCP) on the 1
 st Sunday\, Matins (BCP) on the 2nd Sunday\, Family Communion on the 3rd S
 unday and Evensong at 6pm on the 4th Sunday. Please check our current cale
 ndar on https://ropleybenefice.church/ for up-to-date information.
LOCATION:St Nicholas
URL:https://www.achurchnearyou.com/church/18202/service-and-events/events/
 1075197/
END:VEVENT
BEGIN:VEVENT
SUMMARY:Sunday Worship
DTSTART;TZID=Europe/London:20261213T110000
DTEND;TZID=Europe/London:20261213T120000
DTSTAMP:20260421T082901Z
UID:10751972026-12-13 11:00:00+00:00achurchnearyou
CATEGORIES:
DESCRIPTION:Our usual pattern of services is Holy Communion (BCP) on the 1
 st Sunday\, Matins (BCP) on the 2nd Sunday\, Family Communion on the 3rd S
 unday and Evensong at 6pm on the 4th Sunday. Please check our current cale
 ndar on https://ropleybenefice.church/ for up-to-date information.
LOCATION:St Nicholas
URL:https://www.achurchnearyou.com/church/18202/service-and-events/events/
 1075197/
END:VEVENT
BEGIN:VEVENT
SUMMARY:Sunday Worship
DTSTART;TZID=Europe/London:20261220T110000
DTEND;TZID=Europe/London:20261220T120000
DTSTAMP:20260421T082901Z
UID:10751972026-12-20 11:00:00+00:00achurchnearyou
CATEGORIES:
DESCRIPTION:Our usual pattern of services is Holy Communion (BCP) on the 1
 st Sunday\, Matins (BCP) on the 2nd Sunday\, Family Communion on the 3rd S
 unday and Evensong at 6pm on the 4th Sunday. Please check our current cale
 ndar on https://ropleybenefice.church/ for up-to-date information.
LOCATION:St Nicholas
URL:https://www.achurchnearyou.com/church/18202/service-and-events/events/
 1075197/
END:VEVENT
BEGIN:VEVENT
SUMMARY:Sunday Worship
DTSTART;TZID=Europe/London:20270103T110000
DTEND;TZID=Europe/London:20270103T120000
DTSTAMP:20260421T082901Z
UID:10751972027-01-03 11:00:00+00:00achurchnearyou
CATEGORIES:
DESCRIPTION:Our usual pattern of services is Holy Communion (BCP) on the 1
 st Sunday\, Matins (BCP) on the 2nd Sunday\, Family Communion on the 3rd S
 unday and Evensong at 6pm on the 4th Sunday. Please check our current cale
 ndar on https://ropleybenefice.church/ for up-to-date information.
LOCATION:St Nicholas
URL:https://www.achurchnearyou.com/church/18202/service-and-events/events/
 1075197/
END:VEVENT
BEGIN:VEVENT
SUMMARY:Sunday Worship
DTSTART;TZID=Europe/London:20270110T110000
DTEND;TZID=Europe/London:20270110T120000
DTSTAMP:20260421T082901Z
UID:10751972027-01-10 11:00:00+00:00achurchnearyou
CATEGORIES:
DESCRIPTION:Our usual pattern of services is Holy Communion (BCP) on the 1
 st Sunday\, Matins (BCP) on the 2nd Sunday\, Family Communion on the 3rd S
 unday and Evensong at 6pm on the 4th Sunday. Please check our current cale
 ndar on https://ropleybenefice.church/ for up-to-date information.
LOCATION:St Nicholas
URL:https://www.achurchnearyou.com/church/18202/service-and-events/events/
 1075197/
END:VEVENT
BEGIN:VEVENT
SUMMARY:Sunday Worship
DTSTART;TZID=Europe/London:20270117T110000
DTEND;TZID=Europe/London:20270117T120000
DTSTAMP:20260421T082901Z
UID:10751972027-01-17 11:00:00+00:00achurchnearyou
CATEGORIES:
DESCRIPTION:Our usual pattern of services is Holy Communion (BCP) on the 1
 st Sunday\, Matins (BCP) on the 2nd Sunday\, Family Communion on the 3rd S
 unday and Evensong at 6pm on the 4th Sunday. Please check our current cale
 ndar on https://ropleybenefice.church/ for up-to-date information.
LOCATION:St Nicholas
URL:https://www.achurchnearyou.com/church/18202/service-and-events/events/
 1075197/
END:VEVENT
BEGIN:VEVENT
SUMMARY:Sunday Worship
DTSTART;TZID=Europe/London:20270207T110000
DTEND;TZID=Europe/London:20270207T120000
DTSTAMP:20260421T082901Z
UID:10751972027-02-07 11:00:00+00:00achurchnearyou
CATEGORIES:
DESCRIPTION:Our usual pattern of services is Holy Communion (BCP) on the 1
 st Sunday\, Matins (BCP) on the 2nd Sunday\, Family Communion on the 3rd S
 unday and Evensong at 6pm on the 4th Sunday. Please check our current cale
 ndar on https://ropleybenefice.church/ for up-to-date information.
LOCATION:St Nicholas
URL:https://www.achurchnearyou.com/church/18202/service-and-events/events/
 1075197/
END:VEVENT
BEGIN:VEVENT
SUMMARY:Sunday Worship
DTSTART;TZID=Europe/London:20270214T110000
DTEND;TZID=Europe/London:20270214T120000
DTSTAMP:20260421T082901Z
UID:10751972027-02-14 11:00:00+00:00achurchnearyou
CATEGORIES:
DESCRIPTION:Our usual pattern of services is Holy Communion (BCP) on the 1
 st Sunday\, Matins (BCP) on the 2nd Sunday\, Family Communion on the 3rd S
 unday and Evensong at 6pm on the 4th Sunday. Please check our current cale
 ndar on https://ropleybenefice.church/ for up-to-date information.
LOCATION:St Nicholas
URL:https://www.achurchnearyou.com/church/18202/service-and-events/events/
 1075197/
END:VEVENT
BEGIN:VEVENT
SUMMARY:Sunday Worship
DTSTART;TZID=Europe/London:20270221T110000
DTEND;TZID=Europe/London:20270221T120000
DTSTAMP:20260421T082901Z
UID:10751972027-02-21 11:00:00+00:00achurchnearyou
CATEGORIES:
DESCRIPTION:Our usual pattern of services is Holy Communion (BCP) on the 1
 st Sunday\, Matins (BCP) on the 2nd Sunday\, Family Communion on the 3rd S
 unday and Evensong at 6pm on the 4th Sunday. Please check our current cale
 ndar on https://ropleybenefice.church/ for up-to-date information.
LOCATION:St Nicholas
URL:https://www.achurchnearyou.com/church/18202/service-and-events/events/
 1075197/
END:VEVENT
BEGIN:VEVENT
SUMMARY:Sunday Worship
DTSTART;TZID=Europe/London:20270307T110000
DTEND;TZID=Europe/London:20270307T120000
DTSTAMP:20260421T082901Z
UID:10751972027-03-07 11:00:00+00:00achurchnearyou
CATEGORIES:
DESCRIPTION:Our usual pattern of services is Holy Communion (BCP) on the 1
 st Sunday\, Matins (BCP) on the 2nd Sunday\, Family Communion on the 3rd S
 unday and Evensong at 6pm on the 4th Sunday. Please check our current cale
 ndar on https://ropleybenefice.church/ for up-to-date information.
LOCATION:St Nicholas
URL:https://www.achurchnearyou.com/church/18202/service-and-events/events/
 1075197/
END:VEVENT
BEGIN:VEVENT
SUMMARY:Sunday Worship
DTSTART;TZID=Europe/London:20270314T110000
DTEND;TZID=Europe/London:20270314T120000
DTSTAMP:20260421T082901Z
UID:10751972027-03-14 11:00:00+00:00achurchnearyou
CATEGORIES:
DESCRIPTION:Our usual pattern of services is Holy Communion (BCP) on the 1
 st Sunday\, Matins (BCP) on the 2nd Sunday\, Family Communion on the 3rd S
 unday and Evensong at 6pm on the 4th Sunday. Please check our current cale
 ndar on https://ropleybenefice.church/ for up-to-date information.
LOCATION:St Nicholas
URL:https://www.achurchnearyou.com/church/18202/service-and-events/events/
 1075197/
END:VEVENT
BEGIN:VEVENT
SUMMARY:Sunday Worship
DTSTART;TZID=Europe/London:20270321T110000
DTEND;TZID=Europe/London:20270321T120000
DTSTAMP:20260421T082901Z
UID:10751972027-03-21 11:00:00+00:00achurchnearyou
CATEGORIES:
DESCRIPTION:Our usual pattern of services is Holy Communion (BCP) on the 1
 st Sunday\, Matins (BCP) on the 2nd Sunday\, Family Communion on the 3rd S
 unday and Evensong at 6pm on the 4th Sunday. Please check our current cale
 ndar on https://ropleybenefice.church/ for up-to-date information.
LOCATION:St Nicholas
URL:https://www.achurchnearyou.com/church/18202/service-and-events/events/
 1075197/
END:VEVENT
BEGIN:VEVENT
SUMMARY:Sunday Worship
DTSTART;TZID=Europe/London:20270404T110000
DTEND;TZID=Europe/London:20270404T120000
DTSTAMP:20260421T082901Z
UID:10751972027-04-04 11:00:00+01:00achurchnearyou
CATEGORIES:
DESCRIPTION:Our usual pattern of services is Holy Communion (BCP) on the 1
 st Sunday\, Matins (BCP) on the 2nd Sunday\, Family Communion on the 3rd S
 unday and Evensong at 6pm on the 4th Sunday. Please check our current cale
 ndar on https://ropleybenefice.church/ for up-to-date information.
LOCATION:St Nicholas
URL:https://www.achurchnearyou.com/church/18202/service-and-events/events/
 1075197/
END:VEVENT
BEGIN:VEVENT
SUMMARY:Sunday Worship
DTSTART;TZID=Europe/London:20270411T110000
DTEND;TZID=Europe/London:20270411T120000
DTSTAMP:20260421T082901Z
UID:10751972027-04-11 11:00:00+01:00achurchnearyou
CATEGORIES:
DESCRIPTION:Our usual pattern of services is Holy Communion (BCP) on the 1
 st Sunday\, Matins (BCP) on the 2nd Sunday\, Family Communion on the 3rd S
 unday and Evensong at 6pm on the 4th Sunday. Please check our current cale
 ndar on https://ropleybenefice.church/ for up-to-date information.
LOCATION:St Nicholas
URL:https://www.achurchnearyou.com/church/18202/service-and-events/events/
 1075197/
END:VEVENT
BEGIN:VEVENT
SUMMARY:Sunday Worship
DTSTART;TZID=Europe/London:20270418T110000
DTEND;TZID=Europe/London:20270418T120000
DTSTAMP:20260421T082901Z
UID:10751972027-04-18 11:00:00+01:00achurchnearyou
CATEGORIES:
DESCRIPTION:Our usual pattern of services is Holy Communion (BCP) on the 1
 st Sunday\, Matins (BCP) on the 2nd Sunday\, Family Communion on the 3rd S
 unday and Evensong at 6pm on the 4th Sunday. Please check our current cale
 ndar on https://ropleybenefice.church/ for up-to-date information.
LOCATION:St Nicholas
URL:https://www.achurchnearyou.com/church/18202/service-and-events/events/
 1075197/
END:VEVENT
END:VCALENDAR
