BEGIN:VCALENDAR
VERSION:2.0
PRODID:-//achurchnearyou.com//eventfeed//EN
CALSCALE:GREGORIAN
METHOD:PUBLISH
X-WR-TIMEZONE:UTC
BEGIN:VEVENT
SUMMARY:Good Friday Outdoor Service
DTSTART;TZID=Europe/London:20260403T100000
DTEND;TZID=Europe/London:20260403T110000
DTSTAMP:20260423T071641Z
UID:12875051775206800.0achurchnearyou
CATEGORIES:
DESCRIPTION:A fun retelling of the Easter story in St Lawrence Churchyard 
 with actors and live animals taking part
LOCATION:St Lawrence
URL:https://www.achurchnearyou.com/church/18224/service-and-events/events/
 1287505/
END:VEVENT
BEGIN:VEVENT
SUMMARY:The Last Hour
DTSTART;TZID=Europe/London:20260403T140000
DTEND;TZID=Europe/London:20260403T150000
DTSTAMP:20260423T071641Z
UID:12875361775221200.0achurchnearyou
CATEGORIES:
DESCRIPTION:A quiet service of contemplation with readings and music.
LOCATION:St Lawrence
URL:https://www.achurchnearyou.com/church/18224/service-and-events/events/
 1287536/
END:VEVENT
BEGIN:VEVENT
SUMMARY:Family Church Service
DTSTART;TZID=Europe/London:20260405T093000
DTEND;TZID=Europe/London:20260405T100000
DTSTAMP:20260423T071641Z
UID:12804171775377800.0achurchnearyou
CATEGORIES:
DESCRIPTION:A short 30 minute youth family worhsip followed by bacon sarni
 es
LOCATION:St Lawrence
URL:https://www.achurchnearyou.com/church/18224/service-and-events/events/
 1280417/
END:VEVENT
BEGIN:VEVENT
SUMMARY:Traditional Easter Communion
DTSTART;TZID=Europe/London:20260405T110000
DTEND;TZID=Europe/London:20260405T120000
DTSTAMP:20260423T071641Z
UID:12875461775383200.0achurchnearyou
CATEGORIES:
DESCRIPTION:Easter Communion Service with hymns
GEO:-0.980307;51.145561
LOCATION:All Saints
URL:https://www.achurchnearyou.com/church/18224/service-and-events/events/
 1287546/
END:VEVENT
BEGIN:VEVENT
SUMMARY:Afternoon Worship at 3pm (Tea@4 after the service)
DTSTART;TZID=Europe/London:20260412T150000
DTEND;TZID=Europe/London:20260412T170000
DTSTAMP:20260423T071641Z
UID:8327081776002400.0achurchnearyou
CATEGORIES:
DESCRIPTION:3pm service with tea and cake after
GEO:-0.980307;51.145561
LOCATION:All Saints
URL:https://www.achurchnearyou.com/church/18224/service-and-events/events/
 832708/
END:VEVENT
BEGIN:VEVENT
SUMMARY:Church@4
DTSTART;TZID=Europe/London:20260412T160000
DTEND;TZID=Europe/London:20260412T170000
DTSTAMP:20260423T071641Z
UID:12804091776006000.0achurchnearyou
CATEGORIES:
DESCRIPTION:An all Age relaxed family Worship with food\, craft and singin
 g. Every 2nd Sunday of the month. EVeryone is welcome
LOCATION:St Lawrence
URL:https://www.achurchnearyou.com/church/18224/service-and-events/events/
 1280409/
END:VEVENT
BEGIN:VEVENT
SUMMARY:Communion Service on 3rd Sunday of the month
DTSTART;TZID=Europe/London:20260419T103000
DTEND;TZID=Europe/London:20260419T111000
DTSTAMP:20260423T071641Z
UID:7395731776591000.0achurchnearyou
CATEGORIES:
DESCRIPTION:Please join us
GEO:-0.980307;51.145561
LOCATION:All Saints
URL:http://www.potr-alton.co.uk
END:VEVENT
BEGIN:VEVENT
SUMMARY:LeGo Church
DTSTART;TZID=Europe/London:20260426T160000
DTEND;TZID=Europe/London:20260426T170000
DTSTAMP:20260423T071641Z
UID:12350381777215600.0achurchnearyou
CATEGORIES:
DESCRIPTION:Come and build God's stories with refreshments
LOCATION:Church of the Holy Rood\, Holybourne
URL:https://www.achurchnearyou.com/church/18224/service-and-events/events/
 1235038/
END:VEVENT
BEGIN:VEVENT
SUMMARY:Family Church Service
DTSTART;TZID=Europe/London:20260503T093000
DTEND;TZID=Europe/London:20260503T100000
DTSTAMP:20260423T071641Z
UID:12804171777797000.0achurchnearyou
CATEGORIES:
DESCRIPTION:A short 30 minute youth family worhsip followed by bacon sarni
 es
LOCATION:St Lawrence
URL:https://www.achurchnearyou.com/church/18224/service-and-events/events/
 1280417/
END:VEVENT
BEGIN:VEVENT
SUMMARY:Afternoon Worship at 3pm (Tea@4 after the service)
DTSTART;TZID=Europe/London:20260510T150000
DTEND;TZID=Europe/London:20260510T170000
DTSTAMP:20260423T071641Z
UID:8327081778421600.0achurchnearyou
CATEGORIES:
DESCRIPTION:3pm service with tea and cake after
GEO:-0.980307;51.145561
LOCATION:All Saints
URL:https://www.achurchnearyou.com/church/18224/service-and-events/events/
 832708/
END:VEVENT
BEGIN:VEVENT
SUMMARY:Church@4
DTSTART;TZID=Europe/London:20260510T160000
DTEND;TZID=Europe/London:20260510T170000
DTSTAMP:20260423T071641Z
UID:12804091778425200.0achurchnearyou
CATEGORIES:
DESCRIPTION:An all Age relaxed family Worship with food\, craft and singin
 g. Every 2nd Sunday of the month. EVeryone is welcome
LOCATION:St Lawrence
URL:https://www.achurchnearyou.com/church/18224/service-and-events/events/
 1280409/
END:VEVENT
BEGIN:VEVENT
SUMMARY:Communion Service on 3rd Sunday of the month
DTSTART;TZID=Europe/London:20260517T103000
DTEND;TZID=Europe/London:20260517T111000
DTSTAMP:20260423T071641Z
UID:7395731779010200.0achurchnearyou
CATEGORIES:
DESCRIPTION:Please join us
GEO:-0.980307;51.145561
LOCATION:All Saints
URL:http://www.potr-alton.co.uk
END:VEVENT
BEGIN:VEVENT
SUMMARY:LeGo Church
DTSTART;TZID=Europe/London:20260524T160000
DTEND;TZID=Europe/London:20260524T170000
DTSTAMP:20260423T071641Z
UID:12350381779634800.0achurchnearyou
CATEGORIES:
DESCRIPTION:Come and build God's stories with refreshments
LOCATION:Church of the Holy Rood\, Holybourne
URL:https://www.achurchnearyou.com/church/18224/service-and-events/events/
 1235038/
END:VEVENT
BEGIN:VEVENT
SUMMARY:Family Church Service
DTSTART;TZID=Europe/London:20260607T093000
DTEND;TZID=Europe/London:20260607T100000
DTSTAMP:20260423T071641Z
UID:12804171780821000.0achurchnearyou
CATEGORIES:
DESCRIPTION:A short 30 minute youth family worhsip followed by bacon sarni
 es
LOCATION:St Lawrence
URL:https://www.achurchnearyou.com/church/18224/service-and-events/events/
 1280417/
END:VEVENT
BEGIN:VEVENT
SUMMARY:Afternoon Worship at 3pm (Tea@4 after the service)
DTSTART;TZID=Europe/London:20260614T150000
DTEND;TZID=Europe/London:20260614T170000
DTSTAMP:20260423T071641Z
UID:8327081781445600.0achurchnearyou
CATEGORIES:
DESCRIPTION:3pm service with tea and cake after
GEO:-0.980307;51.145561
LOCATION:All Saints
URL:https://www.achurchnearyou.com/church/18224/service-and-events/events/
 832708/
END:VEVENT
BEGIN:VEVENT
SUMMARY:Church@4
DTSTART;TZID=Europe/London:20260614T160000
DTEND;TZID=Europe/London:20260614T170000
DTSTAMP:20260423T071641Z
UID:12804091781449200.0achurchnearyou
CATEGORIES:
DESCRIPTION:An all Age relaxed family Worship with food\, craft and singin
 g. Every 2nd Sunday of the month. EVeryone is welcome
LOCATION:St Lawrence
URL:https://www.achurchnearyou.com/church/18224/service-and-events/events/
 1280409/
END:VEVENT
BEGIN:VEVENT
SUMMARY:Communion Service on 3rd Sunday of the month
DTSTART;TZID=Europe/London:20260621T103000
DTEND;TZID=Europe/London:20260621T111000
DTSTAMP:20260423T071641Z
UID:7395731782034200.0achurchnearyou
CATEGORIES:
DESCRIPTION:Please join us
GEO:-0.980307;51.145561
LOCATION:All Saints
URL:http://www.potr-alton.co.uk
END:VEVENT
BEGIN:VEVENT
SUMMARY:LeGo Church
DTSTART;TZID=Europe/London:20260628T160000
DTEND;TZID=Europe/London:20260628T170000
DTSTAMP:20260423T071641Z
UID:12350381782658800.0achurchnearyou
CATEGORIES:
DESCRIPTION:Come and build God's stories with refreshments
LOCATION:Church of the Holy Rood\, Holybourne
URL:https://www.achurchnearyou.com/church/18224/service-and-events/events/
 1235038/
END:VEVENT
BEGIN:VEVENT
SUMMARY:Family Church Service
DTSTART;TZID=Europe/London:20260705T093000
DTEND;TZID=Europe/London:20260705T100000
DTSTAMP:20260423T071641Z
UID:12804171783240200.0achurchnearyou
CATEGORIES:
DESCRIPTION:A short 30 minute youth family worhsip followed by bacon sarni
 es
LOCATION:St Lawrence
URL:https://www.achurchnearyou.com/church/18224/service-and-events/events/
 1280417/
END:VEVENT
BEGIN:VEVENT
SUMMARY:Afternoon Worship at 3pm (Tea@4 after the service)
DTSTART;TZID=Europe/London:20260712T150000
DTEND;TZID=Europe/London:20260712T170000
DTSTAMP:20260423T071641Z
UID:8327081783864800.0achurchnearyou
CATEGORIES:
DESCRIPTION:3pm service with tea and cake after
GEO:-0.980307;51.145561
LOCATION:All Saints
URL:https://www.achurchnearyou.com/church/18224/service-and-events/events/
 832708/
END:VEVENT
BEGIN:VEVENT
SUMMARY:Church@4
DTSTART;TZID=Europe/London:20260712T160000
DTEND;TZID=Europe/London:20260712T170000
DTSTAMP:20260423T071641Z
UID:12804091783868400.0achurchnearyou
CATEGORIES:
DESCRIPTION:An all Age relaxed family Worship with food\, craft and singin
 g. Every 2nd Sunday of the month. EVeryone is welcome
LOCATION:St Lawrence
URL:https://www.achurchnearyou.com/church/18224/service-and-events/events/
 1280409/
END:VEVENT
BEGIN:VEVENT
SUMMARY:Communion Service on 3rd Sunday of the month
DTSTART;TZID=Europe/London:20260719T103000
DTEND;TZID=Europe/London:20260719T111000
DTSTAMP:20260423T071641Z
UID:7395731784453400.0achurchnearyou
CATEGORIES:
DESCRIPTION:Please join us
GEO:-0.980307;51.145561
LOCATION:All Saints
URL:http://www.potr-alton.co.uk
END:VEVENT
BEGIN:VEVENT
SUMMARY:LeGo Church
DTSTART;TZID=Europe/London:20260726T160000
DTEND;TZID=Europe/London:20260726T170000
DTSTAMP:20260423T071641Z
UID:12350381785078000.0achurchnearyou
CATEGORIES:
DESCRIPTION:Come and build God's stories with refreshments
LOCATION:Church of the Holy Rood\, Holybourne
URL:https://www.achurchnearyou.com/church/18224/service-and-events/events/
 1235038/
END:VEVENT
BEGIN:VEVENT
SUMMARY:Family Church Service
DTSTART;TZID=Europe/London:20260802T093000
DTEND;TZID=Europe/London:20260802T100000
DTSTAMP:20260423T071641Z
UID:12804171785659400.0achurchnearyou
CATEGORIES:
DESCRIPTION:A short 30 minute youth family worhsip followed by bacon sarni
 es
LOCATION:St Lawrence
URL:https://www.achurchnearyou.com/church/18224/service-and-events/events/
 1280417/
END:VEVENT
BEGIN:VEVENT
SUMMARY:Afternoon Worship at 3pm (Tea@4 after the service)
DTSTART;TZID=Europe/London:20260809T150000
DTEND;TZID=Europe/London:20260809T170000
DTSTAMP:20260423T071641Z
UID:8327081786284000.0achurchnearyou
CATEGORIES:
DESCRIPTION:3pm service with tea and cake after
GEO:-0.980307;51.145561
LOCATION:All Saints
URL:https://www.achurchnearyou.com/church/18224/service-and-events/events/
 832708/
END:VEVENT
BEGIN:VEVENT
SUMMARY:Church@4
DTSTART;TZID=Europe/London:20260809T160000
DTEND;TZID=Europe/London:20260809T170000
DTSTAMP:20260423T071641Z
UID:12804091786287600.0achurchnearyou
CATEGORIES:
DESCRIPTION:An all Age relaxed family Worship with food\, craft and singin
 g. Every 2nd Sunday of the month. EVeryone is welcome
LOCATION:St Lawrence
URL:https://www.achurchnearyou.com/church/18224/service-and-events/events/
 1280409/
END:VEVENT
BEGIN:VEVENT
SUMMARY:Communion Service on 3rd Sunday of the month
DTSTART;TZID=Europe/London:20260816T103000
DTEND;TZID=Europe/London:20260816T111000
DTSTAMP:20260423T071641Z
UID:7395731786872600.0achurchnearyou
CATEGORIES:
DESCRIPTION:Please join us
GEO:-0.980307;51.145561
LOCATION:All Saints
URL:http://www.potr-alton.co.uk
END:VEVENT
BEGIN:VEVENT
SUMMARY:LeGo Church
DTSTART;TZID=Europe/London:20260823T160000
DTEND;TZID=Europe/London:20260823T170000
DTSTAMP:20260423T071641Z
UID:12350381787497200.0achurchnearyou
CATEGORIES:
DESCRIPTION:Come and build God's stories with refreshments
LOCATION:Church of the Holy Rood\, Holybourne
URL:https://www.achurchnearyou.com/church/18224/service-and-events/events/
 1235038/
END:VEVENT
BEGIN:VEVENT
SUMMARY:Family Church Service
DTSTART;TZID=Europe/London:20260906T093000
DTEND;TZID=Europe/London:20260906T100000
DTSTAMP:20260423T071641Z
UID:12804171788683400.0achurchnearyou
CATEGORIES:
DESCRIPTION:A short 30 minute youth family worhsip followed by bacon sarni
 es
LOCATION:St Lawrence
URL:https://www.achurchnearyou.com/church/18224/service-and-events/events/
 1280417/
END:VEVENT
BEGIN:VEVENT
SUMMARY:Afternoon Worship at 3pm (Tea@4 after the service)
DTSTART;TZID=Europe/London:20260913T150000
DTEND;TZID=Europe/London:20260913T170000
DTSTAMP:20260423T071641Z
UID:8327081789308000.0achurchnearyou
CATEGORIES:
DESCRIPTION:3pm service with tea and cake after
GEO:-0.980307;51.145561
LOCATION:All Saints
URL:https://www.achurchnearyou.com/church/18224/service-and-events/events/
 832708/
END:VEVENT
BEGIN:VEVENT
SUMMARY:Church@4
DTSTART;TZID=Europe/London:20260913T160000
DTEND;TZID=Europe/London:20260913T170000
DTSTAMP:20260423T071641Z
UID:12804091789311600.0achurchnearyou
CATEGORIES:
DESCRIPTION:An all Age relaxed family Worship with food\, craft and singin
 g. Every 2nd Sunday of the month. EVeryone is welcome
LOCATION:St Lawrence
URL:https://www.achurchnearyou.com/church/18224/service-and-events/events/
 1280409/
END:VEVENT
BEGIN:VEVENT
SUMMARY:Communion Service on 3rd Sunday of the month
DTSTART;TZID=Europe/London:20260920T103000
DTEND;TZID=Europe/London:20260920T111000
DTSTAMP:20260423T071641Z
UID:7395731789896600.0achurchnearyou
CATEGORIES:
DESCRIPTION:Please join us
GEO:-0.980307;51.145561
LOCATION:All Saints
URL:http://www.potr-alton.co.uk
END:VEVENT
BEGIN:VEVENT
SUMMARY:LeGo Church
DTSTART;TZID=Europe/London:20260927T160000
DTEND;TZID=Europe/London:20260927T170000
DTSTAMP:20260423T071641Z
UID:12350381790521200.0achurchnearyou
CATEGORIES:
DESCRIPTION:Come and build God's stories with refreshments
LOCATION:Church of the Holy Rood\, Holybourne
URL:https://www.achurchnearyou.com/church/18224/service-and-events/events/
 1235038/
END:VEVENT
END:VCALENDAR
