BEGIN:VCALENDAR
VERSION:2.0
PRODID:-//achurchnearyou.com//eventfeed//EN
CALSCALE:GREGORIAN
METHOD:PUBLISH
X-WR-TIMEZONE:UTC
BEGIN:VEVENT
SUMMARY:Holy Communion
DTSTART:20251228T110000Z
DTEND:20251228T120000Z
DTSTAMP:20260423T182506Z
UID:12594332025-12-28 11:00:00+00:00achurchnearyou
CATEGORIES:
DESCRIPTION:Benefice Holy Communion
LOCATION:St Nicholas Church\, Fyfield
URL:https://www.achurchnearyou.com/church/18250/service-and-events/events/
 1259433/
END:VEVENT
END:VCALENDAR
