BEGIN:VCALENDAR
VERSION:2.0
PRODID:-//achurchnearyou.com//eventfeed//EN
CALSCALE:GREGORIAN
METHOD:PUBLISH
X-WR-TIMEZONE:UTC
BEGIN:VEVENT
SUMMARY:Carol singing
DTSTART:20251221T110000Z
DTEND:20251221T120000Z
DTSTAMP:20260423T182602Z
UID:12594372025-12-21 11:00:00+00:00achurchnearyou
CATEGORIES:
DESCRIPTION:Carols
GEO:-1.578945;51.21599
LOCATION:St Nicholas
URL:https://www.achurchnearyou.com/church/18254/service-and-events/events/
 1259437/
END:VEVENT
END:VCALENDAR
