BEGIN:VCALENDAR
VERSION:2.0
PRODID:-//achurchnearyou.com//eventfeed//EN
CALSCALE:GREGORIAN
METHOD:PUBLISH
X-WR-TIMEZONE:UTC
BEGIN:VEVENT
SUMMARY:BENEFICE Ashing Service
DTSTART:20260218T180000Z
DTEND:20260218T190000Z
DTSTAMP:20260423T224247Z
UID:12885892026-02-18 18:00:00+00:00achurchnearyou
CATEGORIES:
DESCRIPTION:Ash Wednesday service for the Benefice
LOCATION:St Peter's Church\, Shipton Bellinger
URL:https://www.achurchnearyou.com/church/18254/service-and-events/events/
 1288589/
END:VEVENT
END:VCALENDAR
