BEGIN:VCALENDAR
VERSION:2.0
PRODID:-//achurchnearyou.com//eventfeed//EN
CALSCALE:GREGORIAN
METHOD:PUBLISH
X-WR-TIMEZONE:UTC
BEGIN:VEVENT
SUMMARY:Holy Communion
DTSTART:20260426T080000Z
DTEND:20260426T090000Z
DTSTAMP:20260422T215901Z
UID:13161842026-04-26 08:00:00+00:00achurchnearyou
CATEGORIES:
DESCRIPTION:BCP Holy Communion
GEO:-1.578945;51.21599
LOCATION:St Nicholas
URL:https://www.achurchnearyou.com/church/18254/service-and-events/events/
 1316184/
END:VEVENT
END:VCALENDAR
