BEGIN:VCALENDAR
VERSION:2.0
PRODID:-//achurchnearyou.com//eventfeed//EN
CALSCALE:GREGORIAN
METHOD:PUBLISH
X-WR-TIMEZONE:UTC
BEGIN:VEVENT
SUMMARY:Nativity & Christingle Service
DTSTART:20251221T100000Z
DTEND:20251221T110000Z
DTSTAMP:20260424T003250Z
UID:12688092025-12-21 10:00:00+00:00achurchnearyou
CATEGORIES:
DESCRIPTION:An interactive service for all the family.
GEO:-1.508317;51.251026
LOCATION:Christ Church Hatherden
URL:https://www.pastrowfamily.org.uk/
END:VEVENT
END:VCALENDAR
