BEGIN:VCALENDAR
VERSION:2.0
PRODID:-//achurchnearyou.com//eventfeed//EN
CALSCALE:GREGORIAN
METHOD:PUBLISH
X-WR-TIMEZONE:UTC
BEGIN:VEVENT
SUMMARY:Over Wallop Mothering Sunday Service
DTSTART:20250330T083000Z
DTEND:20250330T093000Z
DTSTAMP:20260424T181553Z
UID:11630332025-03-30 08:30:00+00:00achurchnearyou
CATEGORIES:
DESCRIPTION:All welcome. Family Service.
GEO:-1.595553;51.142682
LOCATION:St Peter's Over Wallop
URL:https://www.achurchnearyou.com/church/18272/service-and-events/events/
 1163033/
END:VEVENT
END:VCALENDAR
