BEGIN:VCALENDAR
VERSION:2.0
PRODID:-//achurchnearyou.com//eventfeed//EN
CALSCALE:GREGORIAN
METHOD:PUBLISH
X-WR-TIMEZONE:UTC
BEGIN:VEVENT
SUMMARY:Holy Communion
DTSTART:20250330T073000Z
DTEND:20250330T083000Z
DTSTAMP:20260424T234624Z
UID:11647842025-03-30 07:30:00+00:00achurchnearyou
CATEGORIES:
DESCRIPTION:A service of Holy Communion held in Rotherwick.  The 5th Sunda
 y services move around\, and this time our service is in the pretty villag
 e church of Rotherwick.  All Welcome.
LOCATION:Rotherwick
URL:https://www.whitewaterchurches.co.uk/
END:VEVENT
END:VCALENDAR
