BEGIN:VCALENDAR
VERSION:2.0
PRODID:-//achurchnearyou.com//eventfeed//EN
CALSCALE:GREGORIAN
METHOD:PUBLISH
X-WR-TIMEZONE:UTC
BEGIN:VEVENT
SUMMARY:Wonder of Easter\, Holiday Club
DTSTART:20250418T083000Z
DTEND:20250418T110000Z
DTSTAMP:20260424T234839Z
UID:11742202025-04-18 08:30:00+00:00achurchnearyou
CATEGORIES:
DESCRIPTION:Our Easter Activity Morning is on Good Friday and is called 'T
 he Wonder of Easter'.  Come along on Friday 18th April for a morning of Ea
 ster themed crafts\, stories\, fun.  \n\nChildren's Activity Morning for c
 hildren up to and including 11 years old.\n\nGames\, crafts\, singing and 
 fun all on the theme of Easter.\n\nThe event is free of charge but a donat
 ion of £5 per child would be appreciated\, cash or card accepted on the d
 ay.\nChildren who are not yet at school need to bring an adult with them\,
  school aged children can be left with us for the morning.\n\nThis event n
 eeds to be prebooked.  Click on more info for booking details.
GEO:-0.960395;51.283395
LOCATION:St John the Evangelist\, Hook
URL:https://tickets.myiknowchurch.co.uk/gb/Mjg3Ny0yMg/t
END:VEVENT
END:VCALENDAR
