BEGIN:VCALENDAR
VERSION:2.0
PRODID:-//achurchnearyou.com//eventfeed//EN
CALSCALE:GREGORIAN
METHOD:PUBLISH
X-WR-TIMEZONE:UTC
BEGIN:VEVENT
SUMMARY:Festival Easter Holy Communion\, with egg hunt & activities for ch
 ildren
DTSTART:20250420T090000Z
DTEND:20250420T100000Z
DTSTAMP:20260425T012713Z
UID:11747142025-04-20 09:00:00+00:00achurchnearyou
CATEGORIES:
DESCRIPTION:A family friendly Easter celebration!  The children will have 
 an easter egg hunt & there will be children's activities. Come and join us
 \, and stay for tea & coffee and say hello!
GEO:-0.960395;51.283395
LOCATION:St John the Evangelist\, Hook
URL:https://www.whitewaterchurches.co.uk/
END:VEVENT
END:VCALENDAR
