BEGIN:VCALENDAR
VERSION:2.0
PRODID:-//achurchnearyou.com//eventfeed//EN
CALSCALE:GREGORIAN
METHOD:PUBLISH
X-WR-TIMEZONE:UTC
BEGIN:VEVENT
SUMMARY:Benefice Confirmation
DTSTART:20251207T100000Z
DTEND:20251207T110000Z
DTSTAMP:20260423T193044Z
UID:12325712025-12-07 10:00:00+00:00achurchnearyou
CATEGORIES:
DESCRIPTION:On Sunday the 7th of December we welcome Bishop Philip to lead
  our Benefice Confirmation Service\, as its a benefice service\, we will b
 e joined by people from the Heckfield\, Mattingley & Rotherwick churches.
GEO:-0.960395;51.283395
LOCATION:St John the Evangelist\, Hook
URL:https://www.whitewaterchurches.co.uk/
END:VEVENT
END:VCALENDAR
