BEGIN:VCALENDAR
VERSION:2.0
PRODID:-//achurchnearyou.com//eventfeed//EN
CALSCALE:GREGORIAN
METHOD:PUBLISH
X-WR-TIMEZONE:UTC
BEGIN:VEVENT
SUMMARY:Holy Communion
DTSTART;TZID=Europe/London:20260426T100000
DTEND;TZID=Europe/London:20260426T110000
DTSTAMP:20260423T041741Z
UID:12370452026-04-26 10:00:00+01:00achurchnearyou
CATEGORIES:
DESCRIPTION:Our normal Sunday Service at St John's is at 10am - but the ty
 pe of service may vary:\n\nOn the 2nd and 4th Sundays each month we have a
  Holy Communion services with Junior Church (with a variety of different a
 ctivities for the different ages). On the 2nd Sunday\, it is Sung Eucharis
 t\, and the 4th Sunday is Holy Communion - both services have the choir le
 ad music\, but on the Sung Eucharist service the choir will sing an anthem
 .\n\nThe first Sunday is an all age Service (no-communion & family friendl
 y) and on the 5th Sunday we join with other churches in the Benefice for a
  Benefice Service which may be in Hook or one of the other churches in the
  Benefice. See our website for details.\n\nOn the 3rd Sunday each month we
  have Morning Worship with Junior Church (with no Holy Communion).
GEO:-0.960395;51.283395
LOCATION:St John the Evangelist\, Hook
URL:https://www.whitewaterchurches.co.uk/
END:VEVENT
BEGIN:VEVENT
SUMMARY:Holy Communion
DTSTART;TZID=Europe/London:20260510T100000
DTEND;TZID=Europe/London:20260510T110000
DTSTAMP:20260423T041741Z
UID:12370452026-05-10 10:00:00+01:00achurchnearyou
CATEGORIES:
DESCRIPTION:Our normal Sunday Service at St John's is at 10am - but the ty
 pe of service may vary:\n\nOn the 2nd and 4th Sundays each month we have a
  Holy Communion services with Junior Church (with a variety of different a
 ctivities for the different ages). On the 2nd Sunday\, it is Sung Eucharis
 t\, and the 4th Sunday is Holy Communion - both services have the choir le
 ad music\, but on the Sung Eucharist service the choir will sing an anthem
 .\n\nThe first Sunday is an all age Service (no-communion & family friendl
 y) and on the 5th Sunday we join with other churches in the Benefice for a
  Benefice Service which may be in Hook or one of the other churches in the
  Benefice. See our website for details.\n\nOn the 3rd Sunday each month we
  have Morning Worship with Junior Church (with no Holy Communion).
GEO:-0.960395;51.283395
LOCATION:St John the Evangelist\, Hook
URL:https://www.whitewaterchurches.co.uk/
END:VEVENT
BEGIN:VEVENT
SUMMARY:Holy Communion
DTSTART;TZID=Europe/London:20260524T100000
DTEND;TZID=Europe/London:20260524T110000
DTSTAMP:20260423T041741Z
UID:12370452026-05-24 10:00:00+01:00achurchnearyou
CATEGORIES:
DESCRIPTION:Our normal Sunday Service at St John's is at 10am - but the ty
 pe of service may vary:\n\nOn the 2nd and 4th Sundays each month we have a
  Holy Communion services with Junior Church (with a variety of different a
 ctivities for the different ages). On the 2nd Sunday\, it is Sung Eucharis
 t\, and the 4th Sunday is Holy Communion - both services have the choir le
 ad music\, but on the Sung Eucharist service the choir will sing an anthem
 .\n\nThe first Sunday is an all age Service (no-communion & family friendl
 y) and on the 5th Sunday we join with other churches in the Benefice for a
  Benefice Service which may be in Hook or one of the other churches in the
  Benefice. See our website for details.\n\nOn the 3rd Sunday each month we
  have Morning Worship with Junior Church (with no Holy Communion).
GEO:-0.960395;51.283395
LOCATION:St John the Evangelist\, Hook
URL:https://www.whitewaterchurches.co.uk/
END:VEVENT
BEGIN:VEVENT
SUMMARY:Holy Communion
DTSTART;TZID=Europe/London:20260614T100000
DTEND;TZID=Europe/London:20260614T110000
DTSTAMP:20260423T041741Z
UID:12370452026-06-14 10:00:00+01:00achurchnearyou
CATEGORIES:
DESCRIPTION:Our normal Sunday Service at St John's is at 10am - but the ty
 pe of service may vary:\n\nOn the 2nd and 4th Sundays each month we have a
  Holy Communion services with Junior Church (with a variety of different a
 ctivities for the different ages). On the 2nd Sunday\, it is Sung Eucharis
 t\, and the 4th Sunday is Holy Communion - both services have the choir le
 ad music\, but on the Sung Eucharist service the choir will sing an anthem
 .\n\nThe first Sunday is an all age Service (no-communion & family friendl
 y) and on the 5th Sunday we join with other churches in the Benefice for a
  Benefice Service which may be in Hook or one of the other churches in the
  Benefice. See our website for details.\n\nOn the 3rd Sunday each month we
  have Morning Worship with Junior Church (with no Holy Communion).
GEO:-0.960395;51.283395
LOCATION:St John the Evangelist\, Hook
URL:https://www.whitewaterchurches.co.uk/
END:VEVENT
BEGIN:VEVENT
SUMMARY:Holy Communion
DTSTART;TZID=Europe/London:20260628T100000
DTEND;TZID=Europe/London:20260628T110000
DTSTAMP:20260423T041741Z
UID:12370452026-06-28 10:00:00+01:00achurchnearyou
CATEGORIES:
DESCRIPTION:Our normal Sunday Service at St John's is at 10am - but the ty
 pe of service may vary:\n\nOn the 2nd and 4th Sundays each month we have a
  Holy Communion services with Junior Church (with a variety of different a
 ctivities for the different ages). On the 2nd Sunday\, it is Sung Eucharis
 t\, and the 4th Sunday is Holy Communion - both services have the choir le
 ad music\, but on the Sung Eucharist service the choir will sing an anthem
 .\n\nThe first Sunday is an all age Service (no-communion & family friendl
 y) and on the 5th Sunday we join with other churches in the Benefice for a
  Benefice Service which may be in Hook or one of the other churches in the
  Benefice. See our website for details.\n\nOn the 3rd Sunday each month we
  have Morning Worship with Junior Church (with no Holy Communion).
GEO:-0.960395;51.283395
LOCATION:St John the Evangelist\, Hook
URL:https://www.whitewaterchurches.co.uk/
END:VEVENT
BEGIN:VEVENT
SUMMARY:Holy Communion
DTSTART;TZID=Europe/London:20260712T100000
DTEND;TZID=Europe/London:20260712T110000
DTSTAMP:20260423T041741Z
UID:12370452026-07-12 10:00:00+01:00achurchnearyou
CATEGORIES:
DESCRIPTION:Our normal Sunday Service at St John's is at 10am - but the ty
 pe of service may vary:\n\nOn the 2nd and 4th Sundays each month we have a
  Holy Communion services with Junior Church (with a variety of different a
 ctivities for the different ages). On the 2nd Sunday\, it is Sung Eucharis
 t\, and the 4th Sunday is Holy Communion - both services have the choir le
 ad music\, but on the Sung Eucharist service the choir will sing an anthem
 .\n\nThe first Sunday is an all age Service (no-communion & family friendl
 y) and on the 5th Sunday we join with other churches in the Benefice for a
  Benefice Service which may be in Hook or one of the other churches in the
  Benefice. See our website for details.\n\nOn the 3rd Sunday each month we
  have Morning Worship with Junior Church (with no Holy Communion).
GEO:-0.960395;51.283395
LOCATION:St John the Evangelist\, Hook
URL:https://www.whitewaterchurches.co.uk/
END:VEVENT
BEGIN:VEVENT
SUMMARY:Holy Communion
DTSTART;TZID=Europe/London:20260726T100000
DTEND;TZID=Europe/London:20260726T110000
DTSTAMP:20260423T041741Z
UID:12370452026-07-26 10:00:00+01:00achurchnearyou
CATEGORIES:
DESCRIPTION:Our normal Sunday Service at St John's is at 10am - but the ty
 pe of service may vary:\n\nOn the 2nd and 4th Sundays each month we have a
  Holy Communion services with Junior Church (with a variety of different a
 ctivities for the different ages). On the 2nd Sunday\, it is Sung Eucharis
 t\, and the 4th Sunday is Holy Communion - both services have the choir le
 ad music\, but on the Sung Eucharist service the choir will sing an anthem
 .\n\nThe first Sunday is an all age Service (no-communion & family friendl
 y) and on the 5th Sunday we join with other churches in the Benefice for a
  Benefice Service which may be in Hook or one of the other churches in the
  Benefice. See our website for details.\n\nOn the 3rd Sunday each month we
  have Morning Worship with Junior Church (with no Holy Communion).
GEO:-0.960395;51.283395
LOCATION:St John the Evangelist\, Hook
URL:https://www.whitewaterchurches.co.uk/
END:VEVENT
BEGIN:VEVENT
SUMMARY:Holy Communion
DTSTART;TZID=Europe/London:20260809T100000
DTEND;TZID=Europe/London:20260809T110000
DTSTAMP:20260423T041741Z
UID:12370452026-08-09 10:00:00+01:00achurchnearyou
CATEGORIES:
DESCRIPTION:Our normal Sunday Service at St John's is at 10am - but the ty
 pe of service may vary:\n\nOn the 2nd and 4th Sundays each month we have a
  Holy Communion services with Junior Church (with a variety of different a
 ctivities for the different ages). On the 2nd Sunday\, it is Sung Eucharis
 t\, and the 4th Sunday is Holy Communion - both services have the choir le
 ad music\, but on the Sung Eucharist service the choir will sing an anthem
 .\n\nThe first Sunday is an all age Service (no-communion & family friendl
 y) and on the 5th Sunday we join with other churches in the Benefice for a
  Benefice Service which may be in Hook or one of the other churches in the
  Benefice. See our website for details.\n\nOn the 3rd Sunday each month we
  have Morning Worship with Junior Church (with no Holy Communion).
GEO:-0.960395;51.283395
LOCATION:St John the Evangelist\, Hook
URL:https://www.whitewaterchurches.co.uk/
END:VEVENT
BEGIN:VEVENT
SUMMARY:Holy Communion
DTSTART;TZID=Europe/London:20260823T100000
DTEND;TZID=Europe/London:20260823T110000
DTSTAMP:20260423T041741Z
UID:12370452026-08-23 10:00:00+01:00achurchnearyou
CATEGORIES:
DESCRIPTION:Our normal Sunday Service at St John's is at 10am - but the ty
 pe of service may vary:\n\nOn the 2nd and 4th Sundays each month we have a
  Holy Communion services with Junior Church (with a variety of different a
 ctivities for the different ages). On the 2nd Sunday\, it is Sung Eucharis
 t\, and the 4th Sunday is Holy Communion - both services have the choir le
 ad music\, but on the Sung Eucharist service the choir will sing an anthem
 .\n\nThe first Sunday is an all age Service (no-communion & family friendl
 y) and on the 5th Sunday we join with other churches in the Benefice for a
  Benefice Service which may be in Hook or one of the other churches in the
  Benefice. See our website for details.\n\nOn the 3rd Sunday each month we
  have Morning Worship with Junior Church (with no Holy Communion).
GEO:-0.960395;51.283395
LOCATION:St John the Evangelist\, Hook
URL:https://www.whitewaterchurches.co.uk/
END:VEVENT
BEGIN:VEVENT
SUMMARY:Holy Communion
DTSTART;TZID=Europe/London:20260913T100000
DTEND;TZID=Europe/London:20260913T110000
DTSTAMP:20260423T041741Z
UID:12370452026-09-13 10:00:00+01:00achurchnearyou
CATEGORIES:
DESCRIPTION:Our normal Sunday Service at St John's is at 10am - but the ty
 pe of service may vary:\n\nOn the 2nd and 4th Sundays each month we have a
  Holy Communion services with Junior Church (with a variety of different a
 ctivities for the different ages). On the 2nd Sunday\, it is Sung Eucharis
 t\, and the 4th Sunday is Holy Communion - both services have the choir le
 ad music\, but on the Sung Eucharist service the choir will sing an anthem
 .\n\nThe first Sunday is an all age Service (no-communion & family friendl
 y) and on the 5th Sunday we join with other churches in the Benefice for a
  Benefice Service which may be in Hook or one of the other churches in the
  Benefice. See our website for details.\n\nOn the 3rd Sunday each month we
  have Morning Worship with Junior Church (with no Holy Communion).
GEO:-0.960395;51.283395
LOCATION:St John the Evangelist\, Hook
URL:https://www.whitewaterchurches.co.uk/
END:VEVENT
BEGIN:VEVENT
SUMMARY:Holy Communion
DTSTART;TZID=Europe/London:20260927T100000
DTEND;TZID=Europe/London:20260927T110000
DTSTAMP:20260423T041741Z
UID:12370452026-09-27 10:00:00+01:00achurchnearyou
CATEGORIES:
DESCRIPTION:Our normal Sunday Service at St John's is at 10am - but the ty
 pe of service may vary:\n\nOn the 2nd and 4th Sundays each month we have a
  Holy Communion services with Junior Church (with a variety of different a
 ctivities for the different ages). On the 2nd Sunday\, it is Sung Eucharis
 t\, and the 4th Sunday is Holy Communion - both services have the choir le
 ad music\, but on the Sung Eucharist service the choir will sing an anthem
 .\n\nThe first Sunday is an all age Service (no-communion & family friendl
 y) and on the 5th Sunday we join with other churches in the Benefice for a
  Benefice Service which may be in Hook or one of the other churches in the
  Benefice. See our website for details.\n\nOn the 3rd Sunday each month we
  have Morning Worship with Junior Church (with no Holy Communion).
GEO:-0.960395;51.283395
LOCATION:St John the Evangelist\, Hook
URL:https://www.whitewaterchurches.co.uk/
END:VEVENT
BEGIN:VEVENT
SUMMARY:Holy Communion
DTSTART;TZID=Europe/London:20261011T100000
DTEND;TZID=Europe/London:20261011T110000
DTSTAMP:20260423T041741Z
UID:12370452026-10-11 10:00:00+01:00achurchnearyou
CATEGORIES:
DESCRIPTION:Our normal Sunday Service at St John's is at 10am - but the ty
 pe of service may vary:\n\nOn the 2nd and 4th Sundays each month we have a
  Holy Communion services with Junior Church (with a variety of different a
 ctivities for the different ages). On the 2nd Sunday\, it is Sung Eucharis
 t\, and the 4th Sunday is Holy Communion - both services have the choir le
 ad music\, but on the Sung Eucharist service the choir will sing an anthem
 .\n\nThe first Sunday is an all age Service (no-communion & family friendl
 y) and on the 5th Sunday we join with other churches in the Benefice for a
  Benefice Service which may be in Hook or one of the other churches in the
  Benefice. See our website for details.\n\nOn the 3rd Sunday each month we
  have Morning Worship with Junior Church (with no Holy Communion).
GEO:-0.960395;51.283395
LOCATION:St John the Evangelist\, Hook
URL:https://www.whitewaterchurches.co.uk/
END:VEVENT
BEGIN:VEVENT
SUMMARY:Holy Communion
DTSTART;TZID=Europe/London:20261025T100000
DTEND;TZID=Europe/London:20261025T110000
DTSTAMP:20260423T041741Z
UID:12370452026-10-25 10:00:00+00:00achurchnearyou
CATEGORIES:
DESCRIPTION:Our normal Sunday Service at St John's is at 10am - but the ty
 pe of service may vary:\n\nOn the 2nd and 4th Sundays each month we have a
  Holy Communion services with Junior Church (with a variety of different a
 ctivities for the different ages). On the 2nd Sunday\, it is Sung Eucharis
 t\, and the 4th Sunday is Holy Communion - both services have the choir le
 ad music\, but on the Sung Eucharist service the choir will sing an anthem
 .\n\nThe first Sunday is an all age Service (no-communion & family friendl
 y) and on the 5th Sunday we join with other churches in the Benefice for a
  Benefice Service which may be in Hook or one of the other churches in the
  Benefice. See our website for details.\n\nOn the 3rd Sunday each month we
  have Morning Worship with Junior Church (with no Holy Communion).
GEO:-0.960395;51.283395
LOCATION:St John the Evangelist\, Hook
URL:https://www.whitewaterchurches.co.uk/
END:VEVENT
BEGIN:VEVENT
SUMMARY:Holy Communion
DTSTART;TZID=Europe/London:20261108T100000
DTEND;TZID=Europe/London:20261108T110000
DTSTAMP:20260423T041741Z
UID:12370452026-11-08 10:00:00+00:00achurchnearyou
CATEGORIES:
DESCRIPTION:Our normal Sunday Service at St John's is at 10am - but the ty
 pe of service may vary:\n\nOn the 2nd and 4th Sundays each month we have a
  Holy Communion services with Junior Church (with a variety of different a
 ctivities for the different ages). On the 2nd Sunday\, it is Sung Eucharis
 t\, and the 4th Sunday is Holy Communion - both services have the choir le
 ad music\, but on the Sung Eucharist service the choir will sing an anthem
 .\n\nThe first Sunday is an all age Service (no-communion & family friendl
 y) and on the 5th Sunday we join with other churches in the Benefice for a
  Benefice Service which may be in Hook or one of the other churches in the
  Benefice. See our website for details.\n\nOn the 3rd Sunday each month we
  have Morning Worship with Junior Church (with no Holy Communion).
GEO:-0.960395;51.283395
LOCATION:St John the Evangelist\, Hook
URL:https://www.whitewaterchurches.co.uk/
END:VEVENT
BEGIN:VEVENT
SUMMARY:Holy Communion
DTSTART;TZID=Europe/London:20261122T100000
DTEND;TZID=Europe/London:20261122T110000
DTSTAMP:20260423T041741Z
UID:12370452026-11-22 10:00:00+00:00achurchnearyou
CATEGORIES:
DESCRIPTION:Our normal Sunday Service at St John's is at 10am - but the ty
 pe of service may vary:\n\nOn the 2nd and 4th Sundays each month we have a
  Holy Communion services with Junior Church (with a variety of different a
 ctivities for the different ages). On the 2nd Sunday\, it is Sung Eucharis
 t\, and the 4th Sunday is Holy Communion - both services have the choir le
 ad music\, but on the Sung Eucharist service the choir will sing an anthem
 .\n\nThe first Sunday is an all age Service (no-communion & family friendl
 y) and on the 5th Sunday we join with other churches in the Benefice for a
  Benefice Service which may be in Hook or one of the other churches in the
  Benefice. See our website for details.\n\nOn the 3rd Sunday each month we
  have Morning Worship with Junior Church (with no Holy Communion).
GEO:-0.960395;51.283395
LOCATION:St John the Evangelist\, Hook
URL:https://www.whitewaterchurches.co.uk/
END:VEVENT
BEGIN:VEVENT
SUMMARY:Holy Communion
DTSTART;TZID=Europe/London:20261213T100000
DTEND;TZID=Europe/London:20261213T110000
DTSTAMP:20260423T041741Z
UID:12370452026-12-13 10:00:00+00:00achurchnearyou
CATEGORIES:
DESCRIPTION:Our normal Sunday Service at St John's is at 10am - but the ty
 pe of service may vary:\n\nOn the 2nd and 4th Sundays each month we have a
  Holy Communion services with Junior Church (with a variety of different a
 ctivities for the different ages). On the 2nd Sunday\, it is Sung Eucharis
 t\, and the 4th Sunday is Holy Communion - both services have the choir le
 ad music\, but on the Sung Eucharist service the choir will sing an anthem
 .\n\nThe first Sunday is an all age Service (no-communion & family friendl
 y) and on the 5th Sunday we join with other churches in the Benefice for a
  Benefice Service which may be in Hook or one of the other churches in the
  Benefice. See our website for details.\n\nOn the 3rd Sunday each month we
  have Morning Worship with Junior Church (with no Holy Communion).
GEO:-0.960395;51.283395
LOCATION:St John the Evangelist\, Hook
URL:https://www.whitewaterchurches.co.uk/
END:VEVENT
BEGIN:VEVENT
SUMMARY:Holy Communion
DTSTART;TZID=Europe/London:20261227T100000
DTEND;TZID=Europe/London:20261227T110000
DTSTAMP:20260423T041741Z
UID:12370452026-12-27 10:00:00+00:00achurchnearyou
CATEGORIES:
DESCRIPTION:Our normal Sunday Service at St John's is at 10am - but the ty
 pe of service may vary:\n\nOn the 2nd and 4th Sundays each month we have a
  Holy Communion services with Junior Church (with a variety of different a
 ctivities for the different ages). On the 2nd Sunday\, it is Sung Eucharis
 t\, and the 4th Sunday is Holy Communion - both services have the choir le
 ad music\, but on the Sung Eucharist service the choir will sing an anthem
 .\n\nThe first Sunday is an all age Service (no-communion & family friendl
 y) and on the 5th Sunday we join with other churches in the Benefice for a
  Benefice Service which may be in Hook or one of the other churches in the
  Benefice. See our website for details.\n\nOn the 3rd Sunday each month we
  have Morning Worship with Junior Church (with no Holy Communion).
GEO:-0.960395;51.283395
LOCATION:St John the Evangelist\, Hook
URL:https://www.whitewaterchurches.co.uk/
END:VEVENT
BEGIN:VEVENT
SUMMARY:Holy Communion
DTSTART;TZID=Europe/London:20270110T100000
DTEND;TZID=Europe/London:20270110T110000
DTSTAMP:20260423T041741Z
UID:12370452027-01-10 10:00:00+00:00achurchnearyou
CATEGORIES:
DESCRIPTION:Our normal Sunday Service at St John's is at 10am - but the ty
 pe of service may vary:\n\nOn the 2nd and 4th Sundays each month we have a
  Holy Communion services with Junior Church (with a variety of different a
 ctivities for the different ages). On the 2nd Sunday\, it is Sung Eucharis
 t\, and the 4th Sunday is Holy Communion - both services have the choir le
 ad music\, but on the Sung Eucharist service the choir will sing an anthem
 .\n\nThe first Sunday is an all age Service (no-communion & family friendl
 y) and on the 5th Sunday we join with other churches in the Benefice for a
  Benefice Service which may be in Hook or one of the other churches in the
  Benefice. See our website for details.\n\nOn the 3rd Sunday each month we
  have Morning Worship with Junior Church (with no Holy Communion).
GEO:-0.960395;51.283395
LOCATION:St John the Evangelist\, Hook
URL:https://www.whitewaterchurches.co.uk/
END:VEVENT
BEGIN:VEVENT
SUMMARY:Holy Communion
DTSTART;TZID=Europe/London:20270124T100000
DTEND;TZID=Europe/London:20270124T110000
DTSTAMP:20260423T041741Z
UID:12370452027-01-24 10:00:00+00:00achurchnearyou
CATEGORIES:
DESCRIPTION:Our normal Sunday Service at St John's is at 10am - but the ty
 pe of service may vary:\n\nOn the 2nd and 4th Sundays each month we have a
  Holy Communion services with Junior Church (with a variety of different a
 ctivities for the different ages). On the 2nd Sunday\, it is Sung Eucharis
 t\, and the 4th Sunday is Holy Communion - both services have the choir le
 ad music\, but on the Sung Eucharist service the choir will sing an anthem
 .\n\nThe first Sunday is an all age Service (no-communion & family friendl
 y) and on the 5th Sunday we join with other churches in the Benefice for a
  Benefice Service which may be in Hook or one of the other churches in the
  Benefice. See our website for details.\n\nOn the 3rd Sunday each month we
  have Morning Worship with Junior Church (with no Holy Communion).
GEO:-0.960395;51.283395
LOCATION:St John the Evangelist\, Hook
URL:https://www.whitewaterchurches.co.uk/
END:VEVENT
BEGIN:VEVENT
SUMMARY:Holy Communion
DTSTART;TZID=Europe/London:20270214T100000
DTEND;TZID=Europe/London:20270214T110000
DTSTAMP:20260423T041741Z
UID:12370452027-02-14 10:00:00+00:00achurchnearyou
CATEGORIES:
DESCRIPTION:Our normal Sunday Service at St John's is at 10am - but the ty
 pe of service may vary:\n\nOn the 2nd and 4th Sundays each month we have a
  Holy Communion services with Junior Church (with a variety of different a
 ctivities for the different ages). On the 2nd Sunday\, it is Sung Eucharis
 t\, and the 4th Sunday is Holy Communion - both services have the choir le
 ad music\, but on the Sung Eucharist service the choir will sing an anthem
 .\n\nThe first Sunday is an all age Service (no-communion & family friendl
 y) and on the 5th Sunday we join with other churches in the Benefice for a
  Benefice Service which may be in Hook or one of the other churches in the
  Benefice. See our website for details.\n\nOn the 3rd Sunday each month we
  have Morning Worship with Junior Church (with no Holy Communion).
GEO:-0.960395;51.283395
LOCATION:St John the Evangelist\, Hook
URL:https://www.whitewaterchurches.co.uk/
END:VEVENT
BEGIN:VEVENT
SUMMARY:Holy Communion
DTSTART;TZID=Europe/London:20270228T100000
DTEND;TZID=Europe/London:20270228T110000
DTSTAMP:20260423T041741Z
UID:12370452027-02-28 10:00:00+00:00achurchnearyou
CATEGORIES:
DESCRIPTION:Our normal Sunday Service at St John's is at 10am - but the ty
 pe of service may vary:\n\nOn the 2nd and 4th Sundays each month we have a
  Holy Communion services with Junior Church (with a variety of different a
 ctivities for the different ages). On the 2nd Sunday\, it is Sung Eucharis
 t\, and the 4th Sunday is Holy Communion - both services have the choir le
 ad music\, but on the Sung Eucharist service the choir will sing an anthem
 .\n\nThe first Sunday is an all age Service (no-communion & family friendl
 y) and on the 5th Sunday we join with other churches in the Benefice for a
  Benefice Service which may be in Hook or one of the other churches in the
  Benefice. See our website for details.\n\nOn the 3rd Sunday each month we
  have Morning Worship with Junior Church (with no Holy Communion).
GEO:-0.960395;51.283395
LOCATION:St John the Evangelist\, Hook
URL:https://www.whitewaterchurches.co.uk/
END:VEVENT
BEGIN:VEVENT
SUMMARY:Holy Communion
DTSTART;TZID=Europe/London:20270314T100000
DTEND;TZID=Europe/London:20270314T110000
DTSTAMP:20260423T041741Z
UID:12370452027-03-14 10:00:00+00:00achurchnearyou
CATEGORIES:
DESCRIPTION:Our normal Sunday Service at St John's is at 10am - but the ty
 pe of service may vary:\n\nOn the 2nd and 4th Sundays each month we have a
  Holy Communion services with Junior Church (with a variety of different a
 ctivities for the different ages). On the 2nd Sunday\, it is Sung Eucharis
 t\, and the 4th Sunday is Holy Communion - both services have the choir le
 ad music\, but on the Sung Eucharist service the choir will sing an anthem
 .\n\nThe first Sunday is an all age Service (no-communion & family friendl
 y) and on the 5th Sunday we join with other churches in the Benefice for a
  Benefice Service which may be in Hook or one of the other churches in the
  Benefice. See our website for details.\n\nOn the 3rd Sunday each month we
  have Morning Worship with Junior Church (with no Holy Communion).
GEO:-0.960395;51.283395
LOCATION:St John the Evangelist\, Hook
URL:https://www.whitewaterchurches.co.uk/
END:VEVENT
BEGIN:VEVENT
SUMMARY:Holy Communion
DTSTART;TZID=Europe/London:20270328T100000
DTEND;TZID=Europe/London:20270328T110000
DTSTAMP:20260423T041741Z
UID:12370452027-03-28 10:00:00+01:00achurchnearyou
CATEGORIES:
DESCRIPTION:Our normal Sunday Service at St John's is at 10am - but the ty
 pe of service may vary:\n\nOn the 2nd and 4th Sundays each month we have a
  Holy Communion services with Junior Church (with a variety of different a
 ctivities for the different ages). On the 2nd Sunday\, it is Sung Eucharis
 t\, and the 4th Sunday is Holy Communion - both services have the choir le
 ad music\, but on the Sung Eucharist service the choir will sing an anthem
 .\n\nThe first Sunday is an all age Service (no-communion & family friendl
 y) and on the 5th Sunday we join with other churches in the Benefice for a
  Benefice Service which may be in Hook or one of the other churches in the
  Benefice. See our website for details.\n\nOn the 3rd Sunday each month we
  have Morning Worship with Junior Church (with no Holy Communion).
GEO:-0.960395;51.283395
LOCATION:St John the Evangelist\, Hook
URL:https://www.whitewaterchurches.co.uk/
END:VEVENT
BEGIN:VEVENT
SUMMARY:Holy Communion
DTSTART;TZID=Europe/London:20270411T100000
DTEND;TZID=Europe/London:20270411T110000
DTSTAMP:20260423T041741Z
UID:12370452027-04-11 10:00:00+01:00achurchnearyou
CATEGORIES:
DESCRIPTION:Our normal Sunday Service at St John's is at 10am - but the ty
 pe of service may vary:\n\nOn the 2nd and 4th Sundays each month we have a
  Holy Communion services with Junior Church (with a variety of different a
 ctivities for the different ages). On the 2nd Sunday\, it is Sung Eucharis
 t\, and the 4th Sunday is Holy Communion - both services have the choir le
 ad music\, but on the Sung Eucharist service the choir will sing an anthem
 .\n\nThe first Sunday is an all age Service (no-communion & family friendl
 y) and on the 5th Sunday we join with other churches in the Benefice for a
  Benefice Service which may be in Hook or one of the other churches in the
  Benefice. See our website for details.\n\nOn the 3rd Sunday each month we
  have Morning Worship with Junior Church (with no Holy Communion).
GEO:-0.960395;51.283395
LOCATION:St John the Evangelist\, Hook
URL:https://www.whitewaterchurches.co.uk/
END:VEVENT
END:VCALENDAR
