BEGIN:VCALENDAR
VERSION:2.0
PRODID:-//achurchnearyou.com//eventfeed//EN
CALSCALE:GREGORIAN
METHOD:PUBLISH
X-WR-TIMEZONE:UTC
BEGIN:VEVENT
SUMMARY:Service of Unity in Hook
DTSTART:20260118T180000Z
DTEND:20260118T190000Z
DTSTAMP:20260423T164506Z
UID:12711202026-01-18 18:00:00+00:00achurchnearyou
CATEGORIES:
DESCRIPTION:The Hook Churches meet together on 18th Jan to hold a Unity Se
 rvice.  This year it is at St John's in Hook.  All Welcome
GEO:-0.960395;51.283395
LOCATION:St John the Evangelist\, Hook
URL:https://www.whitewaterchurches.co.uk/
END:VEVENT
END:VCALENDAR
