BEGIN:VCALENDAR
VERSION:2.0
PRODID:-//achurchnearyou.com//eventfeed//EN
CALSCALE:GREGORIAN
METHOD:PUBLISH
X-WR-TIMEZONE:UTC
BEGIN:VEVENT
SUMMARY:Good Friday Liturgy
DTSTART:20260403T090000Z
DTEND:20260403T100000Z
DTSTAMP:20260423T121214Z
UID:13131192026-04-03 09:00:00+00:00achurchnearyou
CATEGORIES:
DESCRIPTION:A Good Friday Liturgy - this will include Holy Communion using
  reserved sacrament.  This is a solemn service\, and there is no junior ch
 urch\, as we anticipate that any children will be at our Holiday Club.
GEO:-0.960395;51.283395
LOCATION:St John the Evangelist\, Hook
URL:https://www.whitewaterchurches.co.uk/
END:VEVENT
END:VCALENDAR
