BEGIN:VCALENDAR
VERSION:2.0
PRODID:-//achurchnearyou.com//eventfeed//EN
CALSCALE:GREGORIAN
METHOD:PUBLISH
X-WR-TIMEZONE:UTC
BEGIN:VEVENT
SUMMARY:1st Century Passover Meal
DTSTART:20250417T174500Z
DTEND:20250417T201500Z
DTSTAMP:20260425T173501Z
UID:11760192025-04-17 17:45:00+00:00achurchnearyou
CATEGORIES:
DESCRIPTION:A fun evening reconstructing Passover in the way Jesus would h
 ave celebrated it at the Last Supper\n\nLamb Tagine ▪ Vegetarian Tagine 
 ▪ Fruit ▪ Wine ▪ Soft Drinks \n\nA 1st Century Passover with customs
  of the day\, the foods available and bringing the bible story alive to ge
 t a better understanding of Jesus’ Last Supper.\n\nEveryone is invited. 
  Please sign up in church or book by Sunday 6th April with Revd Gillian gi
 llian@moretolife.church (01256) 437441 \n\nNo charge but donations on the 
 night to cover the costs
GEO:-0.943326;51.220882
LOCATION:All Saints'\, Long Sutton and Well
URL:https://www.achurchnearyou.com/church/18317/service-and-events/events/
 1176019/
END:VEVENT
END:VCALENDAR
