BEGIN:VCALENDAR
VERSION:2.0
PRODID:-//achurchnearyou.com//eventfeed//EN
CALSCALE:GREGORIAN
METHOD:PUBLISH
X-WR-TIMEZONE:UTC
BEGIN:VEVENT
SUMMARY:Good Friday Service at St Swithun's Church
DTSTART:20260403T090000Z
DTEND:20260403T100000Z
DTSTAMP:20260423T091104Z
UID:12870342026-04-03 09:00:00+00:00achurchnearyou
CATEGORIES:
DESCRIPTION:Good Friday Service
GEO:-1.305544;51.085161
LOCATION:St Swithun's
URL:https://worthychurches.org.uk/whats-on/events/
END:VEVENT
END:VCALENDAR
