BEGIN:VCALENDAR
VERSION:2.0
PRODID:-//achurchnearyou.com//eventfeed//EN
CALSCALE:GREGORIAN
METHOD:PUBLISH
X-WR-TIMEZONE:UTC
BEGIN:VEVENT
SUMMARY:Good Friday Service at St Swithun's Church
DTSTART;TZID=Europe/London:20260403T100000
DTEND;TZID=Europe/London:20260403T110000
DTSTAMP:20260423T054301Z
UID:12870341775206800.0achurchnearyou
CATEGORIES:
DESCRIPTION:Good Friday Service
GEO:-1.305544;51.085161
LOCATION:St Swithun's
URL:https://worthychurches.org.uk/whats-on/events/
END:VEVENT
BEGIN:VEVENT
SUMMARY:8am BCP Holy Communion Service
DTSTART;TZID=Europe/London:20260405T080000
DTEND;TZID=Europe/London:20260405T090000
DTSTAMP:20260423T054301Z
UID:12130851775372400.0achurchnearyou
CATEGORIES:
DESCRIPTION:BCP Holy Communion Service
LOCATION:St Swithun's
URL:https://worthychurches.org.uk/whats-on/events/
END:VEVENT
BEGIN:VEVENT
SUMMARY:Easter Day Communion at St Swithun's Church
DTSTART;TZID=Europe/London:20260405T100000
DTEND;TZID=Europe/London:20260405T110000
DTSTAMP:20260423T054301Z
UID:12870311775379600.0achurchnearyou
CATEGORIES:
DESCRIPTION:Easter Day Festival Communion
GEO:-1.305544;51.085161
LOCATION:St Swithun's
URL:https://worthychurches.org.uk/whats-on/events/
END:VEVENT
BEGIN:VEVENT
SUMMARY:10am Holy Communion Service
DTSTART;TZID=Europe/London:20260412T100000
DTEND;TZID=Europe/London:20260412T110000
DTSTAMP:20260423T054301Z
UID:8521771775984400.0achurchnearyou
CATEGORIES:
DESCRIPTION:Common Worship
LOCATION:St Swithun's
URL:https://worthychurches.org.uk/whats-on/events/
END:VEVENT
BEGIN:VEVENT
SUMMARY:8am BCP Holy Communion Service
DTSTART;TZID=Europe/London:20260419T080000
DTEND;TZID=Europe/London:20260419T090000
DTSTAMP:20260423T054301Z
UID:12130851776582000.0achurchnearyou
CATEGORIES:
DESCRIPTION:BCP Holy Communion Service
LOCATION:St Swithun's
URL:https://worthychurches.org.uk/whats-on/events/
END:VEVENT
BEGIN:VEVENT
SUMMARY:10am Holy Communion Service
DTSTART;TZID=Europe/London:20260426T100000
DTEND;TZID=Europe/London:20260426T110000
DTSTAMP:20260423T054301Z
UID:8521771777194000.0achurchnearyou
CATEGORIES:
DESCRIPTION:Common Worship
LOCATION:St Swithun's
URL:https://worthychurches.org.uk/whats-on/events/
END:VEVENT
BEGIN:VEVENT
SUMMARY:8am BCP Holy Communion Service
DTSTART;TZID=Europe/London:20260503T080000
DTEND;TZID=Europe/London:20260503T090000
DTSTAMP:20260423T054301Z
UID:12130851777791600.0achurchnearyou
CATEGORIES:
DESCRIPTION:BCP Holy Communion Service
LOCATION:St Swithun's
URL:https://worthychurches.org.uk/whats-on/events/
END:VEVENT
BEGIN:VEVENT
SUMMARY:10am Holy Communion Service
DTSTART;TZID=Europe/London:20260510T100000
DTEND;TZID=Europe/London:20260510T110000
DTSTAMP:20260423T054301Z
UID:8521771778403600.0achurchnearyou
CATEGORIES:
DESCRIPTION:Common Worship
LOCATION:St Swithun's
URL:https://worthychurches.org.uk/whats-on/events/
END:VEVENT
BEGIN:VEVENT
SUMMARY:8am BCP Holy Communion Service
DTSTART;TZID=Europe/London:20260517T080000
DTEND;TZID=Europe/London:20260517T090000
DTSTAMP:20260423T054301Z
UID:12130851779001200.0achurchnearyou
CATEGORIES:
DESCRIPTION:BCP Holy Communion Service
LOCATION:St Swithun's
URL:https://worthychurches.org.uk/whats-on/events/
END:VEVENT
BEGIN:VEVENT
SUMMARY:10am Holy Communion Service
DTSTART;TZID=Europe/London:20260524T100000
DTEND;TZID=Europe/London:20260524T110000
DTSTAMP:20260423T054301Z
UID:8521771779613200.0achurchnearyou
CATEGORIES:
DESCRIPTION:Common Worship
LOCATION:St Swithun's
URL:https://worthychurches.org.uk/whats-on/events/
END:VEVENT
BEGIN:VEVENT
SUMMARY:Joint Communion Service with St Mary's Church\, Kings Worthy
DTSTART;TZID=Europe/London:20260531T100000
DTEND;TZID=Europe/London:20260531T110000
DTSTAMP:20260423T054301Z
UID:7798451780218000.0achurchnearyou
CATEGORIES:
DESCRIPTION:On the fifth Sunday of the month\, we gather together with St 
 Mary's Church to share a communion service. The location of this service v
 aries so please check our website for details.
GEO:-1.305544;51.085161
LOCATION:St Swithun's
URL:https://worthychurches.org.uk/whats-on/events/
END:VEVENT
BEGIN:VEVENT
SUMMARY:8am BCP Holy Communion Service
DTSTART;TZID=Europe/London:20260607T080000
DTEND;TZID=Europe/London:20260607T090000
DTSTAMP:20260423T054301Z
UID:12130851780815600.0achurchnearyou
CATEGORIES:
DESCRIPTION:BCP Holy Communion Service
LOCATION:St Swithun's
URL:https://worthychurches.org.uk/whats-on/events/
END:VEVENT
BEGIN:VEVENT
SUMMARY:10am Holy Communion Service
DTSTART;TZID=Europe/London:20260614T100000
DTEND;TZID=Europe/London:20260614T110000
DTSTAMP:20260423T054301Z
UID:8521771781427600.0achurchnearyou
CATEGORIES:
DESCRIPTION:Common Worship
LOCATION:St Swithun's
URL:https://worthychurches.org.uk/whats-on/events/
END:VEVENT
BEGIN:VEVENT
SUMMARY:8am BCP Holy Communion Service
DTSTART;TZID=Europe/London:20260621T080000
DTEND;TZID=Europe/London:20260621T090000
DTSTAMP:20260423T054301Z
UID:12130851782025200.0achurchnearyou
CATEGORIES:
DESCRIPTION:BCP Holy Communion Service
LOCATION:St Swithun's
URL:https://worthychurches.org.uk/whats-on/events/
END:VEVENT
BEGIN:VEVENT
SUMMARY:10am Holy Communion Service
DTSTART;TZID=Europe/London:20260628T100000
DTEND;TZID=Europe/London:20260628T110000
DTSTAMP:20260423T054301Z
UID:8521771782637200.0achurchnearyou
CATEGORIES:
DESCRIPTION:Common Worship
LOCATION:St Swithun's
URL:https://worthychurches.org.uk/whats-on/events/
END:VEVENT
BEGIN:VEVENT
SUMMARY:8am BCP Holy Communion Service
DTSTART;TZID=Europe/London:20260705T080000
DTEND;TZID=Europe/London:20260705T090000
DTSTAMP:20260423T054301Z
UID:12130851783234800.0achurchnearyou
CATEGORIES:
DESCRIPTION:BCP Holy Communion Service
LOCATION:St Swithun's
URL:https://worthychurches.org.uk/whats-on/events/
END:VEVENT
BEGIN:VEVENT
SUMMARY:10am Holy Communion Service
DTSTART;TZID=Europe/London:20260712T100000
DTEND;TZID=Europe/London:20260712T110000
DTSTAMP:20260423T054301Z
UID:8521771783846800.0achurchnearyou
CATEGORIES:
DESCRIPTION:Common Worship
LOCATION:St Swithun's
URL:https://worthychurches.org.uk/whats-on/events/
END:VEVENT
BEGIN:VEVENT
SUMMARY:8am BCP Holy Communion Service
DTSTART;TZID=Europe/London:20260719T080000
DTEND;TZID=Europe/London:20260719T090000
DTSTAMP:20260423T054301Z
UID:12130851784444400.0achurchnearyou
CATEGORIES:
DESCRIPTION:BCP Holy Communion Service
LOCATION:St Swithun's
URL:https://worthychurches.org.uk/whats-on/events/
END:VEVENT
BEGIN:VEVENT
SUMMARY:10am Holy Communion Service
DTSTART;TZID=Europe/London:20260726T100000
DTEND;TZID=Europe/London:20260726T110000
DTSTAMP:20260423T054301Z
UID:8521771785056400.0achurchnearyou
CATEGORIES:
DESCRIPTION:Common Worship
LOCATION:St Swithun's
URL:https://worthychurches.org.uk/whats-on/events/
END:VEVENT
BEGIN:VEVENT
SUMMARY:8am BCP Holy Communion Service
DTSTART;TZID=Europe/London:20260802T080000
DTEND;TZID=Europe/London:20260802T090000
DTSTAMP:20260423T054301Z
UID:12130851785654000.0achurchnearyou
CATEGORIES:
DESCRIPTION:BCP Holy Communion Service
LOCATION:St Swithun's
URL:https://worthychurches.org.uk/whats-on/events/
END:VEVENT
BEGIN:VEVENT
SUMMARY:10am Holy Communion Service
DTSTART;TZID=Europe/London:20260809T100000
DTEND;TZID=Europe/London:20260809T110000
DTSTAMP:20260423T054301Z
UID:8521771786266000.0achurchnearyou
CATEGORIES:
DESCRIPTION:Common Worship
LOCATION:St Swithun's
URL:https://worthychurches.org.uk/whats-on/events/
END:VEVENT
BEGIN:VEVENT
SUMMARY:8am BCP Holy Communion Service
DTSTART;TZID=Europe/London:20260816T080000
DTEND;TZID=Europe/London:20260816T090000
DTSTAMP:20260423T054301Z
UID:12130851786863600.0achurchnearyou
CATEGORIES:
DESCRIPTION:BCP Holy Communion Service
LOCATION:St Swithun's
URL:https://worthychurches.org.uk/whats-on/events/
END:VEVENT
BEGIN:VEVENT
SUMMARY:10am Holy Communion Service
DTSTART;TZID=Europe/London:20260823T100000
DTEND;TZID=Europe/London:20260823T110000
DTSTAMP:20260423T054301Z
UID:8521771787475600.0achurchnearyou
CATEGORIES:
DESCRIPTION:Common Worship
LOCATION:St Swithun's
URL:https://worthychurches.org.uk/whats-on/events/
END:VEVENT
BEGIN:VEVENT
SUMMARY:Joint Communion Service with St Mary's Church\, Kings Worthy
DTSTART;TZID=Europe/London:20260830T100000
DTEND;TZID=Europe/London:20260830T110000
DTSTAMP:20260423T054301Z
UID:7798451788080400.0achurchnearyou
CATEGORIES:
DESCRIPTION:On the fifth Sunday of the month\, we gather together with St 
 Mary's Church to share a communion service. The location of this service v
 aries so please check our website for details.
GEO:-1.305544;51.085161
LOCATION:St Swithun's
URL:https://worthychurches.org.uk/whats-on/events/
END:VEVENT
BEGIN:VEVENT
SUMMARY:8am BCP Holy Communion Service
DTSTART;TZID=Europe/London:20260906T080000
DTEND;TZID=Europe/London:20260906T090000
DTSTAMP:20260423T054301Z
UID:12130851788678000.0achurchnearyou
CATEGORIES:
DESCRIPTION:BCP Holy Communion Service
LOCATION:St Swithun's
URL:https://worthychurches.org.uk/whats-on/events/
END:VEVENT
BEGIN:VEVENT
SUMMARY:10am Holy Communion Service
DTSTART;TZID=Europe/London:20260913T100000
DTEND;TZID=Europe/London:20260913T110000
DTSTAMP:20260423T054301Z
UID:8521771789290000.0achurchnearyou
CATEGORIES:
DESCRIPTION:Common Worship
LOCATION:St Swithun's
URL:https://worthychurches.org.uk/whats-on/events/
END:VEVENT
BEGIN:VEVENT
SUMMARY:8am BCP Holy Communion Service
DTSTART;TZID=Europe/London:20260920T080000
DTEND;TZID=Europe/London:20260920T090000
DTSTAMP:20260423T054301Z
UID:12130851789887600.0achurchnearyou
CATEGORIES:
DESCRIPTION:BCP Holy Communion Service
LOCATION:St Swithun's
URL:https://worthychurches.org.uk/whats-on/events/
END:VEVENT
BEGIN:VEVENT
SUMMARY:10am Holy Communion Service
DTSTART;TZID=Europe/London:20260927T100000
DTEND;TZID=Europe/London:20260927T110000
DTSTAMP:20260423T054301Z
UID:8521771790499600.0achurchnearyou
CATEGORIES:
DESCRIPTION:Common Worship
LOCATION:St Swithun's
URL:https://worthychurches.org.uk/whats-on/events/
END:VEVENT
END:VCALENDAR
