BEGIN:VCALENDAR
VERSION:2.0
PRODID:-//achurchnearyou.com//eventfeed//EN
CALSCALE:GREGORIAN
METHOD:PUBLISH
X-WR-TIMEZONE:UTC
BEGIN:VEVENT
SUMMARY:Communion at the Chapel
DTSTART;TZID=Europe/London:20250504T150000
DTEND;TZID=Europe/London:20250504T160000
DTSTAMP:20260422T153850Z
UID:11798092025-05-04 15:00:00+01:00achurchnearyou
CATEGORIES:
DESCRIPTION:Join us for a friendly afternoon communion service at the Chap
 el\, followed by tea and coffee.
LOCATION:St Mary's Chapel
URL:https://worthychurches.org.uk/whats-on/events/
END:VEVENT
BEGIN:VEVENT
SUMMARY:Communion at the Chapel
DTSTART;TZID=Europe/London:20250518T150000
DTEND;TZID=Europe/London:20250518T160000
DTSTAMP:20260422T153850Z
UID:11798092025-05-18 15:00:00+01:00achurchnearyou
CATEGORIES:
DESCRIPTION:Join us for a friendly afternoon communion service at the Chap
 el\, followed by tea and coffee.
LOCATION:St Mary's Chapel
URL:https://worthychurches.org.uk/whats-on/events/
END:VEVENT
BEGIN:VEVENT
SUMMARY:Communion at the Chapel
DTSTART;TZID=Europe/London:20250601T150000
DTEND;TZID=Europe/London:20250601T160000
DTSTAMP:20260422T153850Z
UID:11798092025-06-01 15:00:00+01:00achurchnearyou
CATEGORIES:
DESCRIPTION:Join us for a friendly afternoon communion service at the Chap
 el\, followed by tea and coffee.
LOCATION:St Mary's Chapel
URL:https://worthychurches.org.uk/whats-on/events/
END:VEVENT
BEGIN:VEVENT
SUMMARY:Communion at the Chapel
DTSTART;TZID=Europe/London:20250615T150000
DTEND;TZID=Europe/London:20250615T160000
DTSTAMP:20260422T153850Z
UID:11798092025-06-15 15:00:00+01:00achurchnearyou
CATEGORIES:
DESCRIPTION:Join us for a friendly afternoon communion service at the Chap
 el\, followed by tea and coffee.
LOCATION:St Mary's Chapel
URL:https://worthychurches.org.uk/whats-on/events/
END:VEVENT
BEGIN:VEVENT
SUMMARY:Communion at the Chapel
DTSTART;TZID=Europe/London:20250706T150000
DTEND;TZID=Europe/London:20250706T160000
DTSTAMP:20260422T153850Z
UID:11798092025-07-06 15:00:00+01:00achurchnearyou
CATEGORIES:
DESCRIPTION:Join us for a friendly afternoon communion service at the Chap
 el\, followed by tea and coffee.
LOCATION:St Mary's Chapel
URL:https://worthychurches.org.uk/whats-on/events/
END:VEVENT
BEGIN:VEVENT
SUMMARY:Communion at the Chapel
DTSTART;TZID=Europe/London:20250720T150000
DTEND;TZID=Europe/London:20250720T160000
DTSTAMP:20260422T153850Z
UID:11798092025-07-20 15:00:00+01:00achurchnearyou
CATEGORIES:
DESCRIPTION:Join us for a friendly afternoon communion service at the Chap
 el\, followed by tea and coffee.
LOCATION:St Mary's Chapel
URL:https://worthychurches.org.uk/whats-on/events/
END:VEVENT
BEGIN:VEVENT
SUMMARY:Communion at the Chapel
DTSTART;TZID=Europe/London:20250803T150000
DTEND;TZID=Europe/London:20250803T160000
DTSTAMP:20260422T153850Z
UID:11798092025-08-03 15:00:00+01:00achurchnearyou
CATEGORIES:
DESCRIPTION:Join us for a friendly afternoon communion service at the Chap
 el\, followed by tea and coffee.
LOCATION:St Mary's Chapel
URL:https://worthychurches.org.uk/whats-on/events/
END:VEVENT
BEGIN:VEVENT
SUMMARY:Communion at the Chapel
DTSTART;TZID=Europe/London:20250817T150000
DTEND;TZID=Europe/London:20250817T160000
DTSTAMP:20260422T153850Z
UID:11798092025-08-17 15:00:00+01:00achurchnearyou
CATEGORIES:
DESCRIPTION:Join us for a friendly afternoon communion service at the Chap
 el\, followed by tea and coffee.
LOCATION:St Mary's Chapel
URL:https://worthychurches.org.uk/whats-on/events/
END:VEVENT
BEGIN:VEVENT
SUMMARY:Communion at the Chapel
DTSTART;TZID=Europe/London:20250907T150000
DTEND;TZID=Europe/London:20250907T160000
DTSTAMP:20260422T153850Z
UID:11798092025-09-07 15:00:00+01:00achurchnearyou
CATEGORIES:
DESCRIPTION:Join us for a friendly afternoon communion service at the Chap
 el\, followed by tea and coffee.
LOCATION:St Mary's Chapel
URL:https://worthychurches.org.uk/whats-on/events/
END:VEVENT
BEGIN:VEVENT
SUMMARY:Communion at the Chapel
DTSTART;TZID=Europe/London:20250921T150000
DTEND;TZID=Europe/London:20250921T160000
DTSTAMP:20260422T153850Z
UID:11798092025-09-21 15:00:00+01:00achurchnearyou
CATEGORIES:
DESCRIPTION:Join us for a friendly afternoon communion service at the Chap
 el\, followed by tea and coffee.
LOCATION:St Mary's Chapel
URL:https://worthychurches.org.uk/whats-on/events/
END:VEVENT
BEGIN:VEVENT
SUMMARY:Communion at the Chapel
DTSTART;TZID=Europe/London:20251005T150000
DTEND;TZID=Europe/London:20251005T160000
DTSTAMP:20260422T153850Z
UID:11798092025-10-05 15:00:00+01:00achurchnearyou
CATEGORIES:
DESCRIPTION:Join us for a friendly afternoon communion service at the Chap
 el\, followed by tea and coffee.
LOCATION:St Mary's Chapel
URL:https://worthychurches.org.uk/whats-on/events/
END:VEVENT
BEGIN:VEVENT
SUMMARY:Communion at the Chapel
DTSTART;TZID=Europe/London:20251019T150000
DTEND;TZID=Europe/London:20251019T160000
DTSTAMP:20260422T153850Z
UID:11798092025-10-19 15:00:00+01:00achurchnearyou
CATEGORIES:
DESCRIPTION:Join us for a friendly afternoon communion service at the Chap
 el\, followed by tea and coffee.
LOCATION:St Mary's Chapel
URL:https://worthychurches.org.uk/whats-on/events/
END:VEVENT
BEGIN:VEVENT
SUMMARY:Communion at the Chapel
DTSTART;TZID=Europe/London:20251102T150000
DTEND;TZID=Europe/London:20251102T160000
DTSTAMP:20260422T153850Z
UID:11798092025-11-02 15:00:00+00:00achurchnearyou
CATEGORIES:
DESCRIPTION:Join us for a friendly afternoon communion service at the Chap
 el\, followed by tea and coffee.
LOCATION:St Mary's Chapel
URL:https://worthychurches.org.uk/whats-on/events/
END:VEVENT
BEGIN:VEVENT
SUMMARY:Communion at the Chapel
DTSTART;TZID=Europe/London:20251116T150000
DTEND;TZID=Europe/London:20251116T160000
DTSTAMP:20260422T153850Z
UID:11798092025-11-16 15:00:00+00:00achurchnearyou
CATEGORIES:
DESCRIPTION:Join us for a friendly afternoon communion service at the Chap
 el\, followed by tea and coffee.
LOCATION:St Mary's Chapel
URL:https://worthychurches.org.uk/whats-on/events/
END:VEVENT
BEGIN:VEVENT
SUMMARY:Communion at the Chapel
DTSTART;TZID=Europe/London:20251207T150000
DTEND;TZID=Europe/London:20251207T160000
DTSTAMP:20260422T153850Z
UID:11798092025-12-07 15:00:00+00:00achurchnearyou
CATEGORIES:
DESCRIPTION:Join us for a friendly afternoon communion service at the Chap
 el\, followed by tea and coffee.
LOCATION:St Mary's Chapel
URL:https://worthychurches.org.uk/whats-on/events/
END:VEVENT
BEGIN:VEVENT
SUMMARY:Communion at the Chapel
DTSTART;TZID=Europe/London:20251221T150000
DTEND;TZID=Europe/London:20251221T160000
DTSTAMP:20260422T153850Z
UID:11798092025-12-21 15:00:00+00:00achurchnearyou
CATEGORIES:
DESCRIPTION:Join us for a friendly afternoon communion service at the Chap
 el\, followed by tea and coffee.
LOCATION:St Mary's Chapel
URL:https://worthychurches.org.uk/whats-on/events/
END:VEVENT
BEGIN:VEVENT
SUMMARY:Communion at the Chapel
DTSTART;TZID=Europe/London:20260104T150000
DTEND;TZID=Europe/London:20260104T160000
DTSTAMP:20260422T153850Z
UID:11798092026-01-04 15:00:00+00:00achurchnearyou
CATEGORIES:
DESCRIPTION:Join us for a friendly afternoon communion service at the Chap
 el\, followed by tea and coffee.
LOCATION:St Mary's Chapel
URL:https://worthychurches.org.uk/whats-on/events/
END:VEVENT
BEGIN:VEVENT
SUMMARY:Communion at the Chapel
DTSTART;TZID=Europe/London:20260118T150000
DTEND;TZID=Europe/London:20260118T160000
DTSTAMP:20260422T153850Z
UID:11798092026-01-18 15:00:00+00:00achurchnearyou
CATEGORIES:
DESCRIPTION:Join us for a friendly afternoon communion service at the Chap
 el\, followed by tea and coffee.
LOCATION:St Mary's Chapel
URL:https://worthychurches.org.uk/whats-on/events/
END:VEVENT
BEGIN:VEVENT
SUMMARY:Communion at the Chapel
DTSTART;TZID=Europe/London:20260201T150000
DTEND;TZID=Europe/London:20260201T160000
DTSTAMP:20260422T153850Z
UID:11798092026-02-01 15:00:00+00:00achurchnearyou
CATEGORIES:
DESCRIPTION:Join us for a friendly afternoon communion service at the Chap
 el\, followed by tea and coffee.
LOCATION:St Mary's Chapel
URL:https://worthychurches.org.uk/whats-on/events/
END:VEVENT
BEGIN:VEVENT
SUMMARY:Communion at the Chapel
DTSTART;TZID=Europe/London:20260215T150000
DTEND;TZID=Europe/London:20260215T160000
DTSTAMP:20260422T153850Z
UID:11798092026-02-15 15:00:00+00:00achurchnearyou
CATEGORIES:
DESCRIPTION:Join us for a friendly afternoon communion service at the Chap
 el\, followed by tea and coffee.
LOCATION:St Mary's Chapel
URL:https://worthychurches.org.uk/whats-on/events/
END:VEVENT
BEGIN:VEVENT
SUMMARY:Communion at the Chapel
DTSTART;TZID=Europe/London:20260301T150000
DTEND;TZID=Europe/London:20260301T160000
DTSTAMP:20260422T153850Z
UID:11798092026-03-01 15:00:00+00:00achurchnearyou
CATEGORIES:
DESCRIPTION:Join us for a friendly afternoon communion service at the Chap
 el\, followed by tea and coffee.
LOCATION:St Mary's Chapel
URL:https://worthychurches.org.uk/whats-on/events/
END:VEVENT
BEGIN:VEVENT
SUMMARY:Communion at the Chapel
DTSTART;TZID=Europe/London:20260315T150000
DTEND;TZID=Europe/London:20260315T160000
DTSTAMP:20260422T153850Z
UID:11798092026-03-15 15:00:00+00:00achurchnearyou
CATEGORIES:
DESCRIPTION:Join us for a friendly afternoon communion service at the Chap
 el\, followed by tea and coffee.
LOCATION:St Mary's Chapel
URL:https://worthychurches.org.uk/whats-on/events/
END:VEVENT
BEGIN:VEVENT
SUMMARY:Communion at the Chapel
DTSTART;TZID=Europe/London:20260419T150000
DTEND;TZID=Europe/London:20260419T160000
DTSTAMP:20260422T153850Z
UID:11798092026-04-19 15:00:00+01:00achurchnearyou
CATEGORIES:
DESCRIPTION:Join us for a friendly afternoon communion service at the Chap
 el\, followed by tea and coffee.
LOCATION:St Mary's Chapel
URL:https://worthychurches.org.uk/whats-on/events/
END:VEVENT
BEGIN:VEVENT
SUMMARY:Communion at the Chapel
DTSTART;TZID=Europe/London:20260503T150000
DTEND;TZID=Europe/London:20260503T160000
DTSTAMP:20260422T153850Z
UID:11798092026-05-03 15:00:00+01:00achurchnearyou
CATEGORIES:
DESCRIPTION:Join us for a friendly afternoon communion service at the Chap
 el\, followed by tea and coffee.
LOCATION:St Mary's Chapel
URL:https://worthychurches.org.uk/whats-on/events/
END:VEVENT
BEGIN:VEVENT
SUMMARY:Communion at the Chapel
DTSTART;TZID=Europe/London:20260517T150000
DTEND;TZID=Europe/London:20260517T160000
DTSTAMP:20260422T153850Z
UID:11798092026-05-17 15:00:00+01:00achurchnearyou
CATEGORIES:
DESCRIPTION:Join us for a friendly afternoon communion service at the Chap
 el\, followed by tea and coffee.
LOCATION:St Mary's Chapel
URL:https://worthychurches.org.uk/whats-on/events/
END:VEVENT
BEGIN:VEVENT
SUMMARY:Communion at the Chapel
DTSTART;TZID=Europe/London:20260607T150000
DTEND;TZID=Europe/London:20260607T160000
DTSTAMP:20260422T153850Z
UID:11798092026-06-07 15:00:00+01:00achurchnearyou
CATEGORIES:
DESCRIPTION:Join us for a friendly afternoon communion service at the Chap
 el\, followed by tea and coffee.
LOCATION:St Mary's Chapel
URL:https://worthychurches.org.uk/whats-on/events/
END:VEVENT
BEGIN:VEVENT
SUMMARY:Communion at the Chapel
DTSTART;TZID=Europe/London:20260621T150000
DTEND;TZID=Europe/London:20260621T160000
DTSTAMP:20260422T153850Z
UID:11798092026-06-21 15:00:00+01:00achurchnearyou
CATEGORIES:
DESCRIPTION:Join us for a friendly afternoon communion service at the Chap
 el\, followed by tea and coffee.
LOCATION:St Mary's Chapel
URL:https://worthychurches.org.uk/whats-on/events/
END:VEVENT
BEGIN:VEVENT
SUMMARY:Communion at the Chapel
DTSTART;TZID=Europe/London:20260705T150000
DTEND;TZID=Europe/London:20260705T160000
DTSTAMP:20260422T153850Z
UID:11798092026-07-05 15:00:00+01:00achurchnearyou
CATEGORIES:
DESCRIPTION:Join us for a friendly afternoon communion service at the Chap
 el\, followed by tea and coffee.
LOCATION:St Mary's Chapel
URL:https://worthychurches.org.uk/whats-on/events/
END:VEVENT
BEGIN:VEVENT
SUMMARY:Communion at the Chapel
DTSTART;TZID=Europe/London:20260719T150000
DTEND;TZID=Europe/London:20260719T160000
DTSTAMP:20260422T153850Z
UID:11798092026-07-19 15:00:00+01:00achurchnearyou
CATEGORIES:
DESCRIPTION:Join us for a friendly afternoon communion service at the Chap
 el\, followed by tea and coffee.
LOCATION:St Mary's Chapel
URL:https://worthychurches.org.uk/whats-on/events/
END:VEVENT
BEGIN:VEVENT
SUMMARY:Communion at the Chapel
DTSTART;TZID=Europe/London:20260802T150000
DTEND;TZID=Europe/London:20260802T160000
DTSTAMP:20260422T153850Z
UID:11798092026-08-02 15:00:00+01:00achurchnearyou
CATEGORIES:
DESCRIPTION:Join us for a friendly afternoon communion service at the Chap
 el\, followed by tea and coffee.
LOCATION:St Mary's Chapel
URL:https://worthychurches.org.uk/whats-on/events/
END:VEVENT
BEGIN:VEVENT
SUMMARY:Communion at the Chapel
DTSTART;TZID=Europe/London:20260816T150000
DTEND;TZID=Europe/London:20260816T160000
DTSTAMP:20260422T153850Z
UID:11798092026-08-16 15:00:00+01:00achurchnearyou
CATEGORIES:
DESCRIPTION:Join us for a friendly afternoon communion service at the Chap
 el\, followed by tea and coffee.
LOCATION:St Mary's Chapel
URL:https://worthychurches.org.uk/whats-on/events/
END:VEVENT
BEGIN:VEVENT
SUMMARY:Communion at the Chapel
DTSTART;TZID=Europe/London:20260906T150000
DTEND;TZID=Europe/London:20260906T160000
DTSTAMP:20260422T153850Z
UID:11798092026-09-06 15:00:00+01:00achurchnearyou
CATEGORIES:
DESCRIPTION:Join us for a friendly afternoon communion service at the Chap
 el\, followed by tea and coffee.
LOCATION:St Mary's Chapel
URL:https://worthychurches.org.uk/whats-on/events/
END:VEVENT
BEGIN:VEVENT
SUMMARY:Communion at the Chapel
DTSTART;TZID=Europe/London:20260920T150000
DTEND;TZID=Europe/London:20260920T160000
DTSTAMP:20260422T153850Z
UID:11798092026-09-20 15:00:00+01:00achurchnearyou
CATEGORIES:
DESCRIPTION:Join us for a friendly afternoon communion service at the Chap
 el\, followed by tea and coffee.
LOCATION:St Mary's Chapel
URL:https://worthychurches.org.uk/whats-on/events/
END:VEVENT
BEGIN:VEVENT
SUMMARY:Communion at the Chapel
DTSTART;TZID=Europe/London:20261004T150000
DTEND;TZID=Europe/London:20261004T160000
DTSTAMP:20260422T153850Z
UID:11798092026-10-04 15:00:00+01:00achurchnearyou
CATEGORIES:
DESCRIPTION:Join us for a friendly afternoon communion service at the Chap
 el\, followed by tea and coffee.
LOCATION:St Mary's Chapel
URL:https://worthychurches.org.uk/whats-on/events/
END:VEVENT
BEGIN:VEVENT
SUMMARY:Communion at the Chapel
DTSTART;TZID=Europe/London:20261018T150000
DTEND;TZID=Europe/London:20261018T160000
DTSTAMP:20260422T153850Z
UID:11798092026-10-18 15:00:00+01:00achurchnearyou
CATEGORIES:
DESCRIPTION:Join us for a friendly afternoon communion service at the Chap
 el\, followed by tea and coffee.
LOCATION:St Mary's Chapel
URL:https://worthychurches.org.uk/whats-on/events/
END:VEVENT
BEGIN:VEVENT
SUMMARY:Communion at the Chapel
DTSTART;TZID=Europe/London:20261101T150000
DTEND;TZID=Europe/London:20261101T160000
DTSTAMP:20260422T153850Z
UID:11798092026-11-01 15:00:00+00:00achurchnearyou
CATEGORIES:
DESCRIPTION:Join us for a friendly afternoon communion service at the Chap
 el\, followed by tea and coffee.
LOCATION:St Mary's Chapel
URL:https://worthychurches.org.uk/whats-on/events/
END:VEVENT
BEGIN:VEVENT
SUMMARY:Communion at the Chapel
DTSTART;TZID=Europe/London:20261115T150000
DTEND;TZID=Europe/London:20261115T160000
DTSTAMP:20260422T153850Z
UID:11798092026-11-15 15:00:00+00:00achurchnearyou
CATEGORIES:
DESCRIPTION:Join us for a friendly afternoon communion service at the Chap
 el\, followed by tea and coffee.
LOCATION:St Mary's Chapel
URL:https://worthychurches.org.uk/whats-on/events/
END:VEVENT
BEGIN:VEVENT
SUMMARY:Communion at the Chapel
DTSTART;TZID=Europe/London:20261206T150000
DTEND;TZID=Europe/London:20261206T160000
DTSTAMP:20260422T153850Z
UID:11798092026-12-06 15:00:00+00:00achurchnearyou
CATEGORIES:
DESCRIPTION:Join us for a friendly afternoon communion service at the Chap
 el\, followed by tea and coffee.
LOCATION:St Mary's Chapel
URL:https://worthychurches.org.uk/whats-on/events/
END:VEVENT
BEGIN:VEVENT
SUMMARY:Communion at the Chapel
DTSTART;TZID=Europe/London:20261220T150000
DTEND;TZID=Europe/London:20261220T160000
DTSTAMP:20260422T153850Z
UID:11798092026-12-20 15:00:00+00:00achurchnearyou
CATEGORIES:
DESCRIPTION:Join us for a friendly afternoon communion service at the Chap
 el\, followed by tea and coffee.
LOCATION:St Mary's Chapel
URL:https://worthychurches.org.uk/whats-on/events/
END:VEVENT
BEGIN:VEVENT
SUMMARY:Communion at the Chapel
DTSTART;TZID=Europe/London:20270103T150000
DTEND;TZID=Europe/London:20270103T160000
DTSTAMP:20260422T153850Z
UID:11798092027-01-03 15:00:00+00:00achurchnearyou
CATEGORIES:
DESCRIPTION:Join us for a friendly afternoon communion service at the Chap
 el\, followed by tea and coffee.
LOCATION:St Mary's Chapel
URL:https://worthychurches.org.uk/whats-on/events/
END:VEVENT
BEGIN:VEVENT
SUMMARY:Communion at the Chapel
DTSTART;TZID=Europe/London:20270117T150000
DTEND;TZID=Europe/London:20270117T160000
DTSTAMP:20260422T153850Z
UID:11798092027-01-17 15:00:00+00:00achurchnearyou
CATEGORIES:
DESCRIPTION:Join us for a friendly afternoon communion service at the Chap
 el\, followed by tea and coffee.
LOCATION:St Mary's Chapel
URL:https://worthychurches.org.uk/whats-on/events/
END:VEVENT
BEGIN:VEVENT
SUMMARY:Communion at the Chapel
DTSTART;TZID=Europe/London:20270207T150000
DTEND;TZID=Europe/London:20270207T160000
DTSTAMP:20260422T153850Z
UID:11798092027-02-07 15:00:00+00:00achurchnearyou
CATEGORIES:
DESCRIPTION:Join us for a friendly afternoon communion service at the Chap
 el\, followed by tea and coffee.
LOCATION:St Mary's Chapel
URL:https://worthychurches.org.uk/whats-on/events/
END:VEVENT
BEGIN:VEVENT
SUMMARY:Communion at the Chapel
DTSTART;TZID=Europe/London:20270221T150000
DTEND;TZID=Europe/London:20270221T160000
DTSTAMP:20260422T153850Z
UID:11798092027-02-21 15:00:00+00:00achurchnearyou
CATEGORIES:
DESCRIPTION:Join us for a friendly afternoon communion service at the Chap
 el\, followed by tea and coffee.
LOCATION:St Mary's Chapel
URL:https://worthychurches.org.uk/whats-on/events/
END:VEVENT
BEGIN:VEVENT
SUMMARY:Communion at the Chapel
DTSTART;TZID=Europe/London:20270307T150000
DTEND;TZID=Europe/London:20270307T160000
DTSTAMP:20260422T153850Z
UID:11798092027-03-07 15:00:00+00:00achurchnearyou
CATEGORIES:
DESCRIPTION:Join us for a friendly afternoon communion service at the Chap
 el\, followed by tea and coffee.
LOCATION:St Mary's Chapel
URL:https://worthychurches.org.uk/whats-on/events/
END:VEVENT
BEGIN:VEVENT
SUMMARY:Communion at the Chapel
DTSTART;TZID=Europe/London:20270321T150000
DTEND;TZID=Europe/London:20270321T160000
DTSTAMP:20260422T153850Z
UID:11798092027-03-21 15:00:00+00:00achurchnearyou
CATEGORIES:
DESCRIPTION:Join us for a friendly afternoon communion service at the Chap
 el\, followed by tea and coffee.
LOCATION:St Mary's Chapel
URL:https://worthychurches.org.uk/whats-on/events/
END:VEVENT
BEGIN:VEVENT
SUMMARY:Communion at the Chapel
DTSTART;TZID=Europe/London:20270404T150000
DTEND;TZID=Europe/London:20270404T160000
DTSTAMP:20260422T153850Z
UID:11798092027-04-04 15:00:00+01:00achurchnearyou
CATEGORIES:
DESCRIPTION:Join us for a friendly afternoon communion service at the Chap
 el\, followed by tea and coffee.
LOCATION:St Mary's Chapel
URL:https://worthychurches.org.uk/whats-on/events/
END:VEVENT
BEGIN:VEVENT
SUMMARY:Communion at the Chapel
DTSTART;TZID=Europe/London:20270418T150000
DTEND;TZID=Europe/London:20270418T160000
DTSTAMP:20260422T153850Z
UID:11798092027-04-18 15:00:00+01:00achurchnearyou
CATEGORIES:
DESCRIPTION:Join us for a friendly afternoon communion service at the Chap
 el\, followed by tea and coffee.
LOCATION:St Mary's Chapel
URL:https://worthychurches.org.uk/whats-on/events/
END:VEVENT
END:VCALENDAR
