BEGIN:VCALENDAR
VERSION:2.0
PRODID:-//achurchnearyou.com//eventfeed//EN
CALSCALE:GREGORIAN
METHOD:PUBLISH
X-WR-TIMEZONE:UTC
BEGIN:VEVENT
SUMMARY:Holy Communion with baptism
DTSTART:20250302T111500Z
DTEND:20250302T121500Z
DTSTAMP:20260419T150741Z
UID:11641632025-03-02 11:15:00+00:00achurchnearyou
CATEGORIES:
DESCRIPTION:11.15am Sunday 2nd March  Rev Dr Rob Rees
GEO:-1.319422;51.153112
LOCATION:Holy Trinity Wonston
URL:https://www.achurchnearyou.com/church/18388/service-and-events/events/
 1164163/
END:VEVENT
END:VCALENDAR
