BEGIN:VCALENDAR
VERSION:2.0
PRODID:-//achurchnearyou.com//eventfeed//EN
CALSCALE:GREGORIAN
METHOD:PUBLISH
X-WR-TIMEZONE:UTC
BEGIN:VEVENT
SUMMARY:Lent Lunches in Wonston and Sutton Scotney
DTSTART:20250305T010000Z
DTEND:20250420T013000Z
DTSTAMP:20260419T150742Z
UID:11661152025-03-05 01:00:00+00:00achurchnearyou
CATEGORIES:
DESCRIPTION:For many years we have observed the season of Lent by gatherin
 g for a simple but delicious lunch of tasty bread and homemade soup at var
 ious venues across the parish. Lent starts on Ash Wednesday which is on 5t
 h March\, and there will be a Lent lunch most weeks until Easter.\n\nEvery
 one is welcome to come along and join a lunch\, but please let the host kn
 ow several days in advance so that there is plenty of soup to go round!\n\
 nAt each venue donations collected will be given to the charity of the hos
 t’s choice.\n\nWe hope that you will be able to join us at one or more l
 unches during Lent and we look forward to seeing you.\n\nWith best wishes\
 ,\n\nCath\, Miranda\, Henrietta\, Melinda\, Bettina\, Angela and Sarah\n\n
 Please note lunches start at 12.30pm\n\nMonday 10th March at Wonston Barn\
 , Wonston\n\nHosts:\n\nCath Landale   07768 698713   landalefamily@hotmail
 .co.uk\n\n& Miranda Paterson 07720 288060  Miranda.douglas@btinternet.com\
 n\n \n\nTuesday 18th March at Wonston Lodge\, Wonston\n\nHost:\n\nHenriett
 a Wood 07810 293264  henriettawood@icloud.com\n\n \n\nTuesday 25th March  
 at the Victoria Hall\, Sutton Scotney \n\nHosts:\n\nSarah Hobhouse  077681
 95233   sarah@hobhouse.net\n\n& Melinda Samms 07843 441879   StMpcc-secret
 ary@outlook.com\n\n \n\nThursday 3rd April at Beech Cottage\, Wonston     
   \n\nHost:\n\nBettina Betton 07795 233149 bettina.betton@btinternet.com\n
 \n \n\nWednesday 9th April at the Red House\, Sutton Scotney   \n\nHost:\n
 \nAngela Lewis   07905458288 lewis_ang22@yahoo.co.uk
GEO:-1.319422;51.153112
LOCATION:Holy Trinity Wonston
URL:https://www.achurchnearyou.com/church/18388/service-and-events/events/
 1166115/
END:VEVENT
END:VCALENDAR
