BEGIN:VCALENDAR
VERSION:2.0
PRODID:-//achurchnearyou.com//eventfeed//EN
CALSCALE:GREGORIAN
METHOD:PUBLISH
X-WR-TIMEZONE:UTC
BEGIN:VEVENT
SUMMARY:All Souls' Tide GSS Mass for Departed Members
DTSTART:20251104T180000Z
DTEND:20251104T184500Z
DTSTAMP:20260423T182603Z
UID:12414472025-11-04 18:00:00+00:00achurchnearyou
CATEGORIES:
DESCRIPTION:If you would like the names of departed family of friends to b
 e included by name\, please add them to the list at the back of the church
 .  Although the Mass is arranged under the auspices of the Guild of Servan
 ts of the Sanctuary (our Chapter of St Swithun and St Osmund)\, all are we
 lcome and our prayers are not restricted to members. \n\nFr John Staples w
 ill be presiding at this evening Mass.
GEO:-1.900163;50.717425
LOCATION:St Ambrose\, Westbourne\, Bournemouth
URL:https://www.achurchnearyou.com/church/18394/service-and-events/events/
 1241447/
END:VEVENT
END:VCALENDAR
