BEGIN:VCALENDAR
VERSION:2.0
PRODID:-//achurchnearyou.com//eventfeed//EN
CALSCALE:GREGORIAN
METHOD:PUBLISH
X-WR-TIMEZONE:UTC
BEGIN:VEVENT
SUMMARY:Holy Hour and Benediction
DTSTART:20251126T190000Z
DTEND:20251126T200000Z
DTSTAMP:20260423T182751Z
UID:12563272025-11-26 19:00:00+00:00achurchnearyou
CATEGORIES:
DESCRIPTION:An annual devotional service in the lead-up to Advent\, organi
 sed by the Confraternity of the Blessed Sacrament\, and open to all. It wi
 ll be held in the Chancel\, led by Fr Robin Nash (Ward Superior) and will 
 be followed by refreshments in the Choir Vestry / Office).
GEO:-1.900163;50.717425
LOCATION:St Ambrose\, Westbourne\, Bournemouth
URL:https://www.achurchnearyou.com/church/18394/service-and-events/events/
 1256327/
END:VEVENT
END:VCALENDAR
