BEGIN:VCALENDAR
VERSION:2.0
PRODID:-//achurchnearyou.com//eventfeed//EN
CALSCALE:GREGORIAN
METHOD:PUBLISH
X-WR-TIMEZONE:UTC
BEGIN:VEVENT
SUMMARY:GOOD FRIDAY (3 p.m.): Stations of the Cross
DTSTART:20260403T140000Z
DTEND:20260403T144500Z
DTSTAMP:20260423T101814Z
UID:12992642026-04-03 14:00:00+00:00achurchnearyou
CATEGORIES:
DESCRIPTION:The Stations of the Cross are followed around the church\, wit
 h a short guided meditation and prayer at each Station.
GEO:-1.900163;50.717425
LOCATION:St Ambrose\, Westbourne\, Bournemouth
URL:https://www.achurchnearyou.com/church/18394/service-and-events/events/
 1299264/
END:VEVENT
END:VCALENDAR
