BEGIN:VCALENDAR
VERSION:2.0
PRODID:-//achurchnearyou.com//eventfeed//EN
CALSCALE:GREGORIAN
METHOD:PUBLISH
X-WR-TIMEZONE:UTC
BEGIN:VEVENT
SUMMARY:EASTER EVE (7 p.m.): Lighting the Paschal Candle\, Exultet\, Servi
 ce of Light and First Mass of Easter
DTSTART:20260404T180000Z
DTEND:20260404T193000Z
DTSTAMP:20260423T133341Z
UID:12992762026-04-04 18:00:00+00:00achurchnearyou
CATEGORIES:
DESCRIPTION:The service begins outside the main entrance of the church whe
 re we Light the Paschal Candle\, from which we light our own candles. It i
 s then borne in procession and the Exsultet is sung. The Service of Light 
 includes four readings and responsorial Psalms\, and this leads into the F
 irst Mass of Easter.
GEO:-1.900163;50.717425
LOCATION:St Ambrose\, Westbourne\, Bournemouth
URL:https://www.achurchnearyou.com/church/18394/service-and-events/events/
 1299276/
END:VEVENT
END:VCALENDAR
