BEGIN:VCALENDAR
VERSION:2.0
PRODID:-//achurchnearyou.com//eventfeed//EN
CALSCALE:GREGORIAN
METHOD:PUBLISH
X-WR-TIMEZONE:UTC
BEGIN:VEVENT
SUMMARY:Choral Evensong – St Stephen's Festival
DTSTART:20260504T150000Z
DTEND:20260504T160000Z
DTSTAMP:20260426T043223Z
UID:13180572026-05-04 15:00:00+00:00achurchnearyou
CATEGORIES:
DESCRIPTION:Groome Responses\nCaesar in E minor\nO Thou who camest from ab
 ove (Festival commission composed by David Halls)\n\nSung by the professio
 nal St Stephen's Festival Choir.\n\nPart of the three-day St Stephen's Fes
 tival over the May Bank Holiday weekend.
LOCATION:St Stephen's Bournemouth
URL:https://www.achurchnearyou.com/church/18410/service-and-events/events/
 1318057/
END:VEVENT
END:VCALENDAR
