BEGIN:VCALENDAR
VERSION:2.0
PRODID:-//achurchnearyou.com//eventfeed//EN
CALSCALE:GREGORIAN
METHOD:PUBLISH
X-WR-TIMEZONE:UTC
BEGIN:VEVENT
SUMMARY:Benediction
DTSTART;TZID=Europe/London:20260426T191500
DTEND;TZID=Europe/London:20260426T193500
DTSTAMP:20260423T060447Z
UID:5846382026-04-26 19:15:00+01:00achurchnearyou
CATEGORIES:
DESCRIPTION:Follows immediately after Solemn Evensong\, with incense
GEO:-1.774161;50.731871
LOCATION:The Priory Church of the Holy Trinity (Christchurch Priory)
URL:https://www.achurchnearyou.com/church/18418/service-and-events/events/
 584638/
END:VEVENT
BEGIN:VEVENT
SUMMARY:Benediction
DTSTART;TZID=Europe/London:20260524T191500
DTEND;TZID=Europe/London:20260524T193500
DTSTAMP:20260423T060447Z
UID:5846382026-05-24 19:15:00+01:00achurchnearyou
CATEGORIES:
DESCRIPTION:Follows immediately after Solemn Evensong\, with incense
GEO:-1.774161;50.731871
LOCATION:The Priory Church of the Holy Trinity (Christchurch Priory)
URL:https://www.achurchnearyou.com/church/18418/service-and-events/events/
 584638/
END:VEVENT
BEGIN:VEVENT
SUMMARY:Benediction
DTSTART;TZID=Europe/London:20260628T191500
DTEND;TZID=Europe/London:20260628T193500
DTSTAMP:20260423T060447Z
UID:5846382026-06-28 19:15:00+01:00achurchnearyou
CATEGORIES:
DESCRIPTION:Follows immediately after Solemn Evensong\, with incense
GEO:-1.774161;50.731871
LOCATION:The Priory Church of the Holy Trinity (Christchurch Priory)
URL:https://www.achurchnearyou.com/church/18418/service-and-events/events/
 584638/
END:VEVENT
BEGIN:VEVENT
SUMMARY:Benediction
DTSTART;TZID=Europe/London:20260726T191500
DTEND;TZID=Europe/London:20260726T193500
DTSTAMP:20260423T060447Z
UID:5846382026-07-26 19:15:00+01:00achurchnearyou
CATEGORIES:
DESCRIPTION:Follows immediately after Solemn Evensong\, with incense
GEO:-1.774161;50.731871
LOCATION:The Priory Church of the Holy Trinity (Christchurch Priory)
URL:https://www.achurchnearyou.com/church/18418/service-and-events/events/
 584638/
END:VEVENT
BEGIN:VEVENT
SUMMARY:Benediction
DTSTART;TZID=Europe/London:20260823T191500
DTEND;TZID=Europe/London:20260823T193500
DTSTAMP:20260423T060447Z
UID:5846382026-08-23 19:15:00+01:00achurchnearyou
CATEGORIES:
DESCRIPTION:Follows immediately after Solemn Evensong\, with incense
GEO:-1.774161;50.731871
LOCATION:The Priory Church of the Holy Trinity (Christchurch Priory)
URL:https://www.achurchnearyou.com/church/18418/service-and-events/events/
 584638/
END:VEVENT
BEGIN:VEVENT
SUMMARY:Benediction
DTSTART;TZID=Europe/London:20260927T191500
DTEND;TZID=Europe/London:20260927T193500
DTSTAMP:20260423T060447Z
UID:5846382026-09-27 19:15:00+01:00achurchnearyou
CATEGORIES:
DESCRIPTION:Follows immediately after Solemn Evensong\, with incense
GEO:-1.774161;50.731871
LOCATION:The Priory Church of the Holy Trinity (Christchurch Priory)
URL:https://www.achurchnearyou.com/church/18418/service-and-events/events/
 584638/
END:VEVENT
BEGIN:VEVENT
SUMMARY:Benediction
DTSTART;TZID=Europe/London:20261025T191500
DTEND;TZID=Europe/London:20261025T193500
DTSTAMP:20260423T060447Z
UID:5846382026-10-25 19:15:00+00:00achurchnearyou
CATEGORIES:
DESCRIPTION:Follows immediately after Solemn Evensong\, with incense
GEO:-1.774161;50.731871
LOCATION:The Priory Church of the Holy Trinity (Christchurch Priory)
URL:https://www.achurchnearyou.com/church/18418/service-and-events/events/
 584638/
END:VEVENT
BEGIN:VEVENT
SUMMARY:Benediction
DTSTART;TZID=Europe/London:20261122T191500
DTEND;TZID=Europe/London:20261122T193500
DTSTAMP:20260423T060447Z
UID:5846382026-11-22 19:15:00+00:00achurchnearyou
CATEGORIES:
DESCRIPTION:Follows immediately after Solemn Evensong\, with incense
GEO:-1.774161;50.731871
LOCATION:The Priory Church of the Holy Trinity (Christchurch Priory)
URL:https://www.achurchnearyou.com/church/18418/service-and-events/events/
 584638/
END:VEVENT
BEGIN:VEVENT
SUMMARY:Benediction
DTSTART;TZID=Europe/London:20261227T191500
DTEND;TZID=Europe/London:20261227T193500
DTSTAMP:20260423T060447Z
UID:5846382026-12-27 19:15:00+00:00achurchnearyou
CATEGORIES:
DESCRIPTION:Follows immediately after Solemn Evensong\, with incense
GEO:-1.774161;50.731871
LOCATION:The Priory Church of the Holy Trinity (Christchurch Priory)
URL:https://www.achurchnearyou.com/church/18418/service-and-events/events/
 584638/
END:VEVENT
BEGIN:VEVENT
SUMMARY:Benediction
DTSTART;TZID=Europe/London:20270124T191500
DTEND;TZID=Europe/London:20270124T193500
DTSTAMP:20260423T060447Z
UID:5846382027-01-24 19:15:00+00:00achurchnearyou
CATEGORIES:
DESCRIPTION:Follows immediately after Solemn Evensong\, with incense
GEO:-1.774161;50.731871
LOCATION:The Priory Church of the Holy Trinity (Christchurch Priory)
URL:https://www.achurchnearyou.com/church/18418/service-and-events/events/
 584638/
END:VEVENT
BEGIN:VEVENT
SUMMARY:Benediction
DTSTART;TZID=Europe/London:20270228T191500
DTEND;TZID=Europe/London:20270228T193500
DTSTAMP:20260423T060447Z
UID:5846382027-02-28 19:15:00+00:00achurchnearyou
CATEGORIES:
DESCRIPTION:Follows immediately after Solemn Evensong\, with incense
GEO:-1.774161;50.731871
LOCATION:The Priory Church of the Holy Trinity (Christchurch Priory)
URL:https://www.achurchnearyou.com/church/18418/service-and-events/events/
 584638/
END:VEVENT
BEGIN:VEVENT
SUMMARY:Benediction
DTSTART;TZID=Europe/London:20270328T191500
DTEND;TZID=Europe/London:20270328T193500
DTSTAMP:20260423T060447Z
UID:5846382027-03-28 19:15:00+01:00achurchnearyou
CATEGORIES:
DESCRIPTION:Follows immediately after Solemn Evensong\, with incense
GEO:-1.774161;50.731871
LOCATION:The Priory Church of the Holy Trinity (Christchurch Priory)
URL:https://www.achurchnearyou.com/church/18418/service-and-events/events/
 584638/
END:VEVENT
END:VCALENDAR
