BEGIN:VCALENDAR
VERSION:2.0
PRODID:-//achurchnearyou.com//eventfeed//EN
CALSCALE:GREGORIAN
METHOD:PUBLISH
X-WR-TIMEZONE:UTC
BEGIN:VEVENT
SUMMARY:Ash Wednesday
DTSTART:20250305T180000Z
DTEND:20250305T190000Z
DTSTAMP:20260420T003733Z
UID:11644712025-03-05 18:00:00+00:00achurchnearyou
CATEGORIES:
DESCRIPTION:Communion service with imposition of ashes
LOCATION:St John's
URL:https://www.achurchnearyou.com/church/18433/service-and-events/events/
 1164471/
END:VEVENT
END:VCALENDAR
