BEGIN:VCALENDAR
VERSION:2.0
PRODID:-//achurchnearyou.com//eventfeed//EN
CALSCALE:GREGORIAN
METHOD:PUBLISH
X-WR-TIMEZONE:UTC
BEGIN:VEVENT
SUMMARY:Good Friday Service
DTSTART:20250418T130000Z
DTEND:20250418T140000Z
DTSTAMP:20260419T135402Z
UID:11657682025-04-18 13:00:00+00:00achurchnearyou
CATEGORIES:
DESCRIPTION:The Last hour on the Cross
LOCATION:St Mary Magdalene
URL:https://www.achurchnearyou.com/church/18435/service-and-events/events/
 1165768/
END:VEVENT
END:VCALENDAR
