BEGIN:VCALENDAR
VERSION:2.0
PRODID:-//achurchnearyou.com//eventfeed//EN
CALSCALE:GREGORIAN
METHOD:PUBLISH
X-WR-TIMEZONE:UTC
BEGIN:VEVENT
SUMMARY:Annual Parochial Church Meeting
DTSTART:20260429T183000Z
DTEND:20260429T203000Z
DTSTAMP:20260423T021649Z
UID:10460442026-04-29 18:30:00+00:00achurchnearyou
CATEGORIES:
DESCRIPTION:Please join us in person as we review the last year and look f
 orward to all that God has in store for us as a Parish in the year to come
 .
GEO:-1.385874;50.9863
LOCATION:St Boniface
URL:https://www.achurchnearyou.com/church/18446/service-and-events/events/
 1046044/
END:VEVENT
END:VCALENDAR
