BEGIN:VCALENDAR
VERSION:2.0
PRODID:-//achurchnearyou.com//eventfeed//EN
CALSCALE:GREGORIAN
METHOD:PUBLISH
X-WR-TIMEZONE:UTC
BEGIN:VEVENT
SUMMARY:Service of Shadows with Holy Eucharist
DTSTART:20260402T183000Z
DTEND:20260402T193000Z
DTSTAMP:20260423T145858Z
UID:12819762026-04-02 18:30:00+00:00achurchnearyou
CATEGORIES:
DESCRIPTION:A Maundy Thursday service
GEO:-1.375023;50.998837
LOCATION:St Martin in the Wood
URL:https://www.achurchnearyou.com/church/18447/service-and-events/events/
 1281976/
END:VEVENT
END:VCALENDAR
