BEGIN:VCALENDAR
VERSION:2.0
PRODID:-//achurchnearyou.com//eventfeed//EN
CALSCALE:GREGORIAN
METHOD:PUBLISH
X-WR-TIMEZONE:UTC
BEGIN:VEVENT
SUMMARY:Easter Day
DTSTART;TZID=Europe/London:20250420T093000
DTEND;TZID=Europe/London:20250420T103000
DTSTAMP:20260424T053916Z
UID:10496772025-04-20 09:30:00+01:00achurchnearyou
CATEGORIES:
DESCRIPTION:Easter Holy Communion
GEO:-1.564178;50.930468
LOCATION:St. Mary\, Copythorne
URL:https://www.achurchnearyou.com/church/18466/service-and-events/events/
 1049677/
END:VEVENT
END:VCALENDAR
