BEGIN:VCALENDAR
VERSION:2.0
PRODID:-//achurchnearyou.com//eventfeed//EN
CALSCALE:GREGORIAN
METHOD:PUBLISH
X-WR-TIMEZONE:UTC
BEGIN:VEVENT
SUMMARY:Passiontide Reflection
DTSTART:20260322T160000Z
DTEND:20260322T164000Z
DTSTAMP:20260423T121227Z
UID:13084912026-03-22 16:00:00+00:00achurchnearyou
CATEGORIES:
DESCRIPTION:'The Giving of Life'. A simple reflection service\, with music
  sung by the choir\, as we prepare to enter Holy Week. The service lasts 4
 0 minutes. All welcome.
GEO:-1.564178;50.930468
LOCATION:St. Mary\, Copythorne
URL:https://www.achurchnearyou.com/church/18466/service-and-events/events/
 1308491/
END:VEVENT
END:VCALENDAR
