BEGIN:VCALENDAR
VERSION:2.0
PRODID:-//achurchnearyou.com//eventfeed//EN
CALSCALE:GREGORIAN
METHOD:PUBLISH
X-WR-TIMEZONE:UTC
BEGIN:VEVENT
SUMMARY:Evensong
DTSTART:20250119T160000Z
DTEND:20250119T164500Z
DTSTAMP:20260425T203506Z
UID:11406292025-01-19 16:00:00+00:00achurchnearyou
CATEGORIES:
DESCRIPTION:This meditative and reflective service lasts for around 30-40 
 minutes\, giving space to pause for a moment as the day draws to a close.
GEO:-1.545141;50.757566
LOCATION:St Thomas Lymington
URL:https://www.achurchnearyou.com/church/18480/service-and-events/events/
 1140629/
END:VEVENT
END:VCALENDAR
