BEGIN:VCALENDAR
VERSION:2.0
PRODID:-//achurchnearyou.com//eventfeed//EN
CALSCALE:GREGORIAN
METHOD:PUBLISH
X-WR-TIMEZONE:UTC
BEGIN:VEVENT
SUMMARY:Christmas Day Service
DTSTART:20251225T111500Z
DTEND:20251225T121500Z
DTSTAMP:20260422T135914Z
UID:6274872025-12-25 11:15:00+00:00achurchnearyou
CATEGORIES:
DESCRIPTION:Holy Communion Service .
GEO:-1.434692;51.044964
LOCATION:St John's\, Farley Chamberlayne
URL:https://www.achurchnearyou.com/church/18500/service-and-events/events/
 627487/
END:VEVENT
END:VCALENDAR
