BEGIN:VCALENDAR
VERSION:2.0
PRODID:-//achurchnearyou.com//eventfeed//EN
CALSCALE:GREGORIAN
METHOD:PUBLISH
X-WR-TIMEZONE:UTC
BEGIN:VEVENT
SUMMARY:Service of Light
DTSTART:20260404T190000Z
DTEND:20260404T200000Z
DTSTAMP:20260423T091252Z
UID:13023272026-04-04 19:00:00+00:00achurchnearyou
CATEGORIES:
DESCRIPTION:at St Mark's Church
LOCATION:St Mark's Church
URL:https://www.peartreeandstmarkschurches.org
END:VEVENT
END:VCALENDAR
